BEGIN:VCALENDAR
VERSION:2.0
PRODID:-//【公式】実家片づけ整理協会 - ECPv6.15.20//NONSGML v1.0//EN
CALSCALE:GREGORIAN
METHOD:PUBLISH
X-WR-CALNAME:【公式】実家片づけ整理協会
X-ORIGINAL-URL:https://jikka-katazuke.jp
X-WR-CALDESC:【公式】実家片づけ整理協会 のイベント
REFRESH-INTERVAL;VALUE=DURATION:PT1H
X-Robots-Tag:noindex
X-PUBLISHED-TTL:PT1H
BEGIN:VTIMEZONE
TZID:Asia/Tokyo
BEGIN:STANDARD
TZOFFSETFROM:+0900
TZOFFSETTO:+0900
TZNAME:JST
DTSTART:20250101T000000
END:STANDARD
END:VTIMEZONE
BEGIN:VEVENT
DTSTART;TZID=Asia/Tokyo:20260313T133000
DTEND;TZID=Asia/Tokyo:20260313T153000
DTSTAMP:20260423T202948
CREATED:20260205T124036Z
LAST-MODIFIED:20260205T124125Z
UID:59774-1773408600-1773415800@jikka-katazuke.jp
SUMMARY:【逗子】自宅と実家の片づけ講座すっきり!整理のヒント（講演・相談会）
DESCRIPTION:自宅と実家の片づけ講座すっきり!　整理のヒント（空き家対策） \n「捨てられない」「思い出の品はどうすれば」「将来が不安」といった片づけの悩みを解消する、整理のコツをお伝えします。 \n講座終了後には片づけや空き家の相談会を実施します。 \n講師　渡部亜矢（(一社)実家片づけ整理協会）\n3月13日㈮13:30～15:00　＊相談会は15:30まで \n対象\n講演：市内在住者および市内に家を所有している人　先着40人\n相談会は先着８人、1人15分 \n申込み　3月10日までに、①住所②氏名③電話番号を、電話・Ｅメールで\n逗子市まちづくり景観課窓口へ
URL:https://jikka-katazuke.jp/event/%e3%80%90%e9%80%97%e5%ad%90%e3%80%91%e8%87%aa%e5%ae%85%e3%81%a8%e5%ae%9f%e5%ae%b6%e3%81%ae%e7%89%87%e3%81%a5%e3%81%91%e8%ac%9b%e5%ba%a7%e3%81%99%e3%81%a3%e3%81%8d%e3%82%8a%e6%95%b4%e7%90%86%e3%81%ae/
ATTACH;FMTTYPE=image/jpeg:https://jikka-katazuke.jp/wp-content/uploads/2026/02/7eba587ab095a53a19a65137fb2999ca.jpg
END:VEVENT
END:VCALENDAR