BEGIN:VCALENDAR
VERSION:2.0
PRODID:-//【公式】実家片づけ整理協会 - ECPv6.15.20//NONSGML v1.0//EN
CALSCALE:GREGORIAN
METHOD:PUBLISH
X-ORIGINAL-URL:https://jikka-katazuke.jp
X-WR-CALDESC:【公式】実家片づけ整理協会 のイベント
REFRESH-INTERVAL;VALUE=DURATION:PT1H
X-Robots-Tag:noindex
X-PUBLISHED-TTL:PT1H
BEGIN:VTIMEZONE
TZID:Asia/Tokyo
BEGIN:STANDARD
TZOFFSETFROM:+0900
TZOFFSETTO:+0900
TZNAME:JST
DTSTART:20240101T000000
END:STANDARD
END:VTIMEZONE
BEGIN:VEVENT
DTSTART;TZID=Asia/Tokyo:20251226T140000
DTEND;TZID=Asia/Tokyo:20251226T160000
DTSTAMP:20260424T020006
CREATED:20251205T024338Z
LAST-MODIFIED:20251208T022842Z
UID:59716-1766757600-1766764800@jikka-katazuke.jp
SUMMARY:【青梅】増員満席 「人生100年時代！自宅と実家の片づけ講座～安心・快適に暮らす整理のコツ～」
DESCRIPTION:消費生活講座 「人生100年時代！自宅と実家の片づけ講座～安心・快適に暮らす整理のコツ～」 \nいつかはやらなければと思いつつ、つい後回しにしてしまう自宅や実家の片づけ。\nいざやろうと思ってもどこから手をつけたらよいのかわからないという方も多いのではないでしょうか。\n親も自分も安心して快適に暮らすための片づけのコツ​をお伝えします。 \n【 日 時 】 令和7年12月26日 金曜日　午前10時から正午\n【 会 場 】 市役所 204～206会議室​\n【 対 象 】 市内在住・在勤・在学の方​\n【 講 師 】 （一社）実家片づけ整理協会代表理事　渡部 亜矢 ​​\n【 費 用 】 無料\n【 定 員 】 先着40名（予約制）→56名　増員満席 \n主催　青梅市市民安全課市民相談係
URL:https://jikka-katazuke.jp/event/%e3%80%90%e9%9d%92%e6%a2%85%e3%80%91%e6%ba%80%e5%b8%ad%e3%80%86%e5%88%87-%e3%80%8c%e4%ba%ba%e7%94%9f100%e5%b9%b4%e6%99%82%e4%bb%a3%ef%bc%81%e8%87%aa%e5%ae%85%e3%81%a8%e5%ae%9f%e5%ae%b6%e3%81%ae/
ATTACH;FMTTYPE=image/jpeg:https://jikka-katazuke.jp/wp-content/uploads/2025/12/47f056a45e0ea7913b3a9ea0c46addf5.jpg
END:VEVENT
BEGIN:VEVENT
DTSTART;TZID=Asia/Tokyo:20251226T193000
DTEND;TZID=Asia/Tokyo:20251226T210000
DTSTAMP:20260424T020006
CREATED:20251221T052310Z
LAST-MODIFIED:20251221T052354Z
UID:59730-1766777400-1766782800@jikka-katazuke.jp
SUMMARY:第95回 定例オフ会「みんなが悩みがち！よくある自宅と空き家の片づけ事例」
DESCRIPTION:第95回 定例オフ会 \nテーマ「みんなが悩みがち！よくある自宅と空き家の片づけ事例」 \n12月26日金　19：30－最大21：00　オンライン \n講師　実家片づけ整理協会　渡部亜矢ほかメンバー \n対象　オンラインサロンメンバー
URL:https://jikka-katazuke.jp/event/%e7%ac%ac95%e5%9b%9e-%e5%ae%9a%e4%be%8b%e3%82%aa%e3%83%95%e4%bc%9a/
ATTACH;FMTTYPE=image/jpeg:https://jikka-katazuke.jp/wp-content/uploads/2025/06/IMG_5349-scaled.jpg
END:VEVENT
END:VCALENDAR