BEGIN:VCALENDAR
VERSION:2.0
PRODID:-//【公式】実家片づけ整理協会 - ECPv6.15.20//NONSGML v1.0//EN
CALSCALE:GREGORIAN
METHOD:PUBLISH
X-ORIGINAL-URL:https://jikka-katazuke.jp
X-WR-CALDESC:【公式】実家片づけ整理協会 のイベント
REFRESH-INTERVAL;VALUE=DURATION:PT1H
X-Robots-Tag:noindex
X-PUBLISHED-TTL:PT1H
BEGIN:VTIMEZONE
TZID:Asia/Tokyo
BEGIN:STANDARD
TZOFFSETFROM:+0900
TZOFFSETTO:+0900
TZNAME:JST
DTSTART:20240101T000000
END:STANDARD
END:VTIMEZONE
BEGIN:VEVENT
DTSTART;TZID=Asia/Tokyo:20251222T133000
DTEND;TZID=Asia/Tokyo:20251222T153000
DTSTAMP:20260424T020007
CREATED:20251201T011627Z
LAST-MODIFIED:20251205T020506Z
UID:59681-1766410200-1766417400@jikka-katazuke.jp
SUMMARY:【港区】人生 100 年時代の自宅・実家の片づけ術
DESCRIPTION:人生 100 年時代の自宅・実家の片づけ術 \n講師　一社　実家片づけ整理協会　渡部亜矢 \n令和 7 年 12 月 22 日(月)13 時半から 15 時半まで\nみなとパーク芝浦２階　港区消費者センター講習室\n定 員 40 人　申し込み12/12まで \n対象　港区在住、在学、在勤の方 \n主催・申し込み　港区消費者センター　共 催 港区消費者団体連絡会
URL:https://jikka-katazuke.jp/event/%e3%80%90%e6%b8%af%e5%8c%ba%e3%80%91%e4%ba%ba%e7%94%9f-100-%e5%b9%b4%e6%99%82%e4%bb%a3%e3%81%ae%e8%87%aa%e5%ae%85%e3%83%bb%e5%ae%9f%e5%ae%b6%e3%81%ae%e7%89%87%e3%81%a5%e3%81%91%e8%a1%93/
ATTACH;FMTTYPE=image/jpeg:https://jikka-katazuke.jp/wp-content/uploads/2025/11/f270a9b8750e59bedd3ef4a3f1998685.jpg
END:VEVENT
END:VCALENDAR