BEGIN:VCALENDAR
VERSION:2.0
PRODID:-//【公式】実家片づけ整理協会 - ECPv6.15.20//NONSGML v1.0//EN
CALSCALE:GREGORIAN
METHOD:PUBLISH
X-ORIGINAL-URL:https://jikka-katazuke.jp
X-WR-CALDESC:【公式】実家片づけ整理協会 のイベント
REFRESH-INTERVAL;VALUE=DURATION:PT1H
X-Robots-Tag:noindex
X-PUBLISHED-TTL:PT1H
BEGIN:VTIMEZONE
TZID:Asia/Tokyo
BEGIN:STANDARD
TZOFFSETFROM:+0900
TZOFFSETTO:+0900
TZNAME:JST
DTSTART:20240101T000000
END:STANDARD
END:VTIMEZONE
BEGIN:VEVENT
DTSTART;TZID=Asia/Tokyo:20251219T140000
DTEND;TZID=Asia/Tokyo:20251219T160000
DTSTAMP:20260424T020007
CREATED:20251115T114941Z
LAST-MODIFIED:20251115T114941Z
UID:59550-1766152800-1766160000@jikka-katazuke.jp
SUMMARY:【横須賀】自宅と実家の片づけ相談会（対面・予約制）
DESCRIPTION:自宅と実家の片づけ相談会\n【横須賀市の空き家所有者・管理者向け相談会との同時開催】 \n＊好評につき横須賀市の空き家対策モデル事業からの継続事業です。\n実家片づけアドバイザーが自宅と実家の片づけのご相談にのります。\n\n開催時間：14時00分から16時00分まで（要事前予約） \n開催場所：横須賀市役所本館3号館5階 正庁（空き家所有者・管理者向け相談会と同じ会場） \n対象者：自宅か実家が横須賀にある方 \n定員組数：先着12組（1組20分程度） \n空家になるのを防ぐために自宅や実家を片づけたいと考えている方を対象に、実家片づけアドバイザーが相談会を実施します。 \n予約申込先\n横須賀市役所　まちなみ景観課　空き家管理支援担当 \n予約申し込み方法\n神奈川県電子申請システム（e-kanagawa）​​​​​または電話による申込 \ne-kanagawa電子申請による申込はこちらから（外部サイト） \n予約申込期間\n令和7年11月25日（火曜日）から令和7年12月12日（金曜日） \n　同時開催「空き家所有者・管理者向け相談会(事前予約制)」と同じ会場です。 \n【令和7年12月19日(金曜日)同時開催】\n空き家所有者・管理者向け相談会\n市では、定住を促す魅力的な都市環境づくりと人口減少社会に対応した総合的な住宅政策を推進するため、空き家を含めた住宅の有効活用や流通促進などに取り組んでいます。 \nその取り組みの一環として、市内の空き家を所有・管理する方が抱えるお悩み・心配事について、不動産事業者、司法書士、建築士、税理士などの専門家から、相談内容に応じた個別アドバイスを受けることができる「空き家所有者・管理者向け相談会」を開催しています。 \n令和7年12月19日（金曜日）\n　開催時間：14時00分から16時00分まで（要事前予約） \n開催場所：横須賀市役所本館3号館5階　正庁 \n定員：先着12組 \n予約申込先\n横須賀市役所　まちなみ景観課　空き家管理支援担当 \n予約申し込み方法\n神奈川県電子申請システム（e-kanagawa）​​​​​または電話による申込 \ne-kanagawa電子申請による申込はこちらから（外部サイト） \n予約申込期間\n令和7年11月25日（火曜日）から令和7年12月12日（金曜日） \n空き家所有者・管理者向け相談会チラシ（PDF：323KB）
URL:https://jikka-katazuke.jp/event/%e3%80%90%e6%a8%aa%e9%a0%88%e8%b3%80%e3%80%91%e8%87%aa%e5%ae%85%e3%81%a8%e5%ae%9f%e5%ae%b6%e3%81%ae%e7%89%87%e3%81%a5%e3%81%91%e7%9b%b8%e8%ab%87%e4%bc%9a%ef%bc%88%e5%af%be%e9%9d%a2%e3%83%bb%e4%ba%88/
ATTACH;FMTTYPE=image/jpeg:https://jikka-katazuke.jp/wp-content/uploads/2025/11/e2007513aa2f201eff23893d5e5cc0c4.jpg
END:VEVENT
END:VCALENDAR