BEGIN:VCALENDAR
VERSION:2.0
PRODID:-//【公式】実家片づけ整理協会 - ECPv6.15.20//NONSGML v1.0//EN
CALSCALE:GREGORIAN
METHOD:PUBLISH
X-ORIGINAL-URL:https://jikka-katazuke.jp
X-WR-CALDESC:【公式】実家片づけ整理協会 のイベント
REFRESH-INTERVAL;VALUE=DURATION:PT1H
X-Robots-Tag:noindex
X-PUBLISHED-TTL:PT1H
BEGIN:VTIMEZONE
TZID:Asia/Tokyo
BEGIN:STANDARD
TZOFFSETFROM:+0900
TZOFFSETTO:+0900
TZNAME:JST
DTSTART:20240101T000000
END:STANDARD
END:VTIMEZONE
BEGIN:VEVENT
DTSTART;TZID=Asia/Tokyo:20251216T140000
DTEND;TZID=Asia/Tokyo:20251216T153000
DTSTAMP:20260424T020007
CREATED:20251111T061043Z
LAST-MODIFIED:20251208T022742Z
UID:59539-1765893600-1765899000@jikka-katazuke.jp
SUMMARY:【藤沢】「年末年始をスッキリ！最短片づけ術～迷わない整理と収納のヒント～」
DESCRIPTION:消費生活講座「年末年始をスッキリ！最短片づけ術～迷わない整理と収納のヒント～」 \n忙しい年末、散らかる部屋に悩んでいませんか。 家族にイライラせず、悩まずに片づけるコツをつかみ、今年こそ片づけ て、新年をスッキリさせましょう。 \n【講師】一般社団法人 実家片づけ整理協会 \n代表理事 渡部 亜矢 \n【日時】2025年（令和7年）12月16日（火曜日）午後2時～3時30分(開場 午後1時45分) \n【開催方法】ハイブリッド開催 \n【会場】㋐藤沢市役所本庁舎4階4-4会議室 \n㋑オンライン受講(Zoomを予定) \n【募集】㋐20名　満席 \n㋑30名(㋐㋑いずれも先着順、無料) \n【対象】藤沢市内在住・在学・在勤の方 \n【申込】12月1日（月曜日）午前10時から12月16日（火曜日）正午まで \n【申込方法】㋐電話・来庁にて申込 \n㋑藤沢市電子申請にて申込 \n 
URL:https://jikka-katazuke.jp/event/%e3%80%90%e8%97%a4%e6%b2%a2%e3%80%91%e3%80%8c%e5%b9%b4%e6%9c%ab%e5%b9%b4%e5%a7%8b%e3%82%92%e3%82%b9%e3%83%83%e3%82%ad%e3%83%aa%ef%bc%81%e6%9c%80%e7%9f%ad%e7%89%87%e3%81%a5%e3%81%91%e8%a1%93%ef%bd%9e/
ATTACH;FMTTYPE=image/jpeg:https://jikka-katazuke.jp/wp-content/uploads/2025/11/032345d49a442c880f0d6cf26db95580.jpg
END:VEVENT
END:VCALENDAR