BEGIN:VCALENDAR
VERSION:2.0
PRODID:-//【公式】実家片づけ整理協会 - ECPv6.15.20//NONSGML v1.0//EN
CALSCALE:GREGORIAN
METHOD:PUBLISH
X-ORIGINAL-URL:https://jikka-katazuke.jp
X-WR-CALDESC:【公式】実家片づけ整理協会 のイベント
REFRESH-INTERVAL;VALUE=DURATION:PT1H
X-Robots-Tag:noindex
X-PUBLISHED-TTL:PT1H
BEGIN:VTIMEZONE
TZID:Asia/Tokyo
BEGIN:STANDARD
TZOFFSETFROM:+0900
TZOFFSETTO:+0900
TZNAME:JST
DTSTART:20240101T000000
END:STANDARD
END:VTIMEZONE
BEGIN:VEVENT
DTSTART;TZID=Asia/Tokyo:20251207T100000
DTEND;TZID=Asia/Tokyo:20251207T130000
DTSTAMP:20260424T031804
CREATED:20251025T152734Z
LAST-MODIFIED:20251127T071417Z
UID:59443-1765101600-1765112400@jikka-katazuke.jp
SUMMARY:増員満席【横浜栄区】自宅と実家の片づけスッキリ講座 ～空き家になるのを防ぐ！地域も自分も大切にする整理術（講座・相談会）
DESCRIPTION:はじめよう住まいの終活\n自宅と実家の片づけスッキリ講座\n～空き家になるのを防ぐ！地域も自分も大切にする整理術～ \n自宅や実家の片づけを通じて空家になるのを防ぎ、自分も地域も大切にする整理術について、セミナーと相談会を実施します。 \n（1）令和７年12月7日（日） \n【セミナー】10:00～11:30（15分前から受付）\n定員50名→増員80名　＊予約満席　受付終了 \n講師：（一社）実家片づけ整理協会 代表理事 渡部 亜矢 \n【個別相談】12:00～13:00（予約時間の5分前から受付）＊満席受付終了\n（12組（専門家３人×４枠）・１組15分）実家片づけアドバイザーによる個別相談 \n主催・申込：栄区役所区政推進課まちづくり調整 \n場所：栄区役所新館４階８・９号会議室 \n 
URL:https://jikka-katazuke.jp/event/%e3%80%90%e6%a8%aa%e6%b5%9c%e6%a0%84%e5%8c%ba%e3%80%91%e8%87%aa%e5%ae%85%e3%81%a8%e5%ae%9f%e5%ae%b6%e3%81%ae%e7%89%87%e3%81%a5%e3%81%91%e3%82%b9%e3%83%83%e3%82%ad%e3%83%aa%e8%ac%9b%e5%ba%a7-%ef%bd%9e/
ATTACH;FMTTYPE=image/jpeg:https://jikka-katazuke.jp/wp-content/uploads/2025/10/24997aff67d5c051c6fd9f5b9f302555.jpg
END:VEVENT
END:VCALENDAR