BEGIN:VCALENDAR
VERSION:2.0
PRODID:-//【公式】実家片づけ整理協会 - ECPv6.15.20//NONSGML v1.0//EN
CALSCALE:GREGORIAN
METHOD:PUBLISH
X-ORIGINAL-URL:https://jikka-katazuke.jp
X-WR-CALDESC:【公式】実家片づけ整理協会 のイベント
REFRESH-INTERVAL;VALUE=DURATION:PT1H
X-Robots-Tag:noindex
X-PUBLISHED-TTL:PT1H
BEGIN:VTIMEZONE
TZID:Asia/Tokyo
BEGIN:STANDARD
TZOFFSETFROM:+0900
TZOFFSETTO:+0900
TZNAME:JST
DTSTART:20240101T000000
END:STANDARD
END:VTIMEZONE
BEGIN:VEVENT
DTSTART;TZID=Asia/Tokyo:20251007T080000
DTEND;TZID=Asia/Tokyo:20251118T170000
DTSTAMP:20260424T045757
CREATED:20250818T142955Z
LAST-MODIFIED:20251111T004524Z
UID:59250-1759824000-1763485200@jikka-katazuke.jp
SUMMARY:【東京都消費生活センター・多摩消費生活センター】紙モノの生前整理 ～今日からできるやさしい整理術～
DESCRIPTION:紙モノの生前整理\n～今日からできるやさしい整理術～ \nくらしフェスタ東京2025\n東京都消費者月間協賛事業 \n講師　一般社団法人実家片づけ整理協会 代表理事　渡部 亜矢 \n主催・申込　東京都消費生活総合センター・多摩消費生活センター \n下記：東京都くらしネットWEB(東京都消費生活総合センター）サイトより引用 \n \n～シニア・ミドルのみなさまへ～\n楽しみながら学ぶ暮らしの連続講座\n自分と家族の人生100年時代の暮らしに備える、お役立ち情報満載の消費生活講座です。\n消費者トラブルにあわないために知っておきたい情報など、人気の講師陣がお話します。\n皆様のご参加をお待ちしております。 \n視聴期間\n令和7年10月7日（火曜日）正午から11月18日（火曜日）正午まで \n視聴方法\nYouTube（申し込み制） \n紙モノの生前整理\n～今日からできるやさしい整理術～ \n講師　一般社団法人実家片づけ整理協会 代表理事 渡部 亜矢 \n詳細\nhttps://www.shouhiseikatu.metro.tokyo.lg.jp/manabitai/koza/center/
URL:https://jikka-katazuke.jp/event/%e3%80%90%e6%9d%b1%e4%ba%ac%e9%83%bd%e6%b6%88%e8%b2%bb%e7%94%9f%e6%b4%bb%e3%82%bb%e3%83%b3%e3%82%bf%e3%83%bc%e3%83%bb%e5%a4%9a%e6%91%a9%e6%b6%88%e8%b2%bb%e7%94%9f%e6%b4%bb%e3%82%bb%e3%83%b3%e3%82%bf/
ATTACH;FMTTYPE=image/jpeg:https://jikka-katazuke.jp/wp-content/uploads/2025/08/e3914724827034f056e3b86619108b66.jpg
END:VEVENT
END:VCALENDAR