BEGIN:VCALENDAR
VERSION:2.0
PRODID:-//【公式】実家片づけ整理協会 - ECPv6.15.20//NONSGML v1.0//EN
CALSCALE:GREGORIAN
METHOD:PUBLISH
X-ORIGINAL-URL:https://jikka-katazuke.jp
X-WR-CALDESC:【公式】実家片づけ整理協会 のイベント
REFRESH-INTERVAL;VALUE=DURATION:PT1H
X-Robots-Tag:noindex
X-PUBLISHED-TTL:PT1H
BEGIN:VTIMEZONE
TZID:Asia/Tokyo
BEGIN:STANDARD
TZOFFSETFROM:+0900
TZOFFSETTO:+0900
TZNAME:JST
DTSTART:20240101T000000
END:STANDARD
END:VTIMEZONE
BEGIN:VEVENT
DTSTART;TZID=Asia/Tokyo:20250905T133000
DTEND;TZID=Asia/Tokyo:20250905T153000
DTSTAMP:20260424T064150
CREATED:20250730T001624Z
LAST-MODIFIED:20250820T072033Z
UID:59237-1757079000-1757086200@jikka-katazuke.jp
SUMMARY:【兵庫神戸】自宅と実家の片づけ講座 ～物もお金もスッキリ快適！～
DESCRIPTION:「自宅と実家の片づけ講座 ～物もお金もスッキリ快適！～」\n \n高齢者保健福祉月間「消費生活講座」 \n主催：兵庫県立消費生活総合センター1階　消費生活情報プラザ\n講師　一社　実家片づけ整理協会　渡部亜矢\n日時：令和7年9月5日（金曜日）14時00分～15時30分 \n下記兵庫県立消費生活総合センターHPより引用 \n・・・・・・・・・・・・・・・・・ \n「人生100年時代 快適に心配なく暮らすために 準備万端ととのえよう！」をテーマに3講座を開催します。 \n高齢者や家族が知りたいこと・不安に感じていることのうち、「実家や自宅の片づけ」「高齢者住宅」「家族のための信託」に焦点をあて、専門家の講演を聞いて、安心して楽しく暮らすヒントを得ます。 \n講師：一般社団法人　実家片づけ整理協会　代表理事　渡部 亜矢　氏\n日時：令和7年9月5日（金曜日）14時00分～15時30分\n申し込み：兵庫県立消費生活総合センター\nhttps://web.pref.hyogo.lg.jp/kk64/press/202509koureisya.html
URL:https://jikka-katazuke.jp/event/%e3%80%90%e5%85%b5%e5%ba%ab%e7%a5%9e%e6%88%b8%e3%80%91%e8%87%aa%e5%ae%85%e3%81%a8%e5%ae%9f%e5%ae%b6%e3%81%ae%e7%89%87%e3%81%a5%e3%81%91%e8%ac%9b%e5%ba%a7-%ef%bd%9e%e7%89%a9%e3%82%82%e3%81%8a%e9%87%91/
ATTACH;FMTTYPE=image/jpeg:https://jikka-katazuke.jp/wp-content/uploads/2025/07/4c2a6e54cfbeccde7c7b9714d84b7662.jpg
END:VEVENT
END:VCALENDAR