BEGIN:VCALENDAR
VERSION:2.0
PRODID:-//【公式】実家片づけ整理協会 - ECPv6.15.20//NONSGML v1.0//EN
CALSCALE:GREGORIAN
METHOD:PUBLISH
X-ORIGINAL-URL:https://jikka-katazuke.jp
X-WR-CALDESC:【公式】実家片づけ整理協会 のイベント
REFRESH-INTERVAL;VALUE=DURATION:PT1H
X-Robots-Tag:noindex
X-PUBLISHED-TTL:PT1H
BEGIN:VTIMEZONE
TZID:Asia/Tokyo
BEGIN:STANDARD
TZOFFSETFROM:+0900
TZOFFSETTO:+0900
TZNAME:JST
DTSTART:20240101T000000
END:STANDARD
END:VTIMEZONE
BEGIN:VEVENT
DTSTART;TZID=Asia/Tokyo:20250702T140000
DTEND;TZID=Asia/Tokyo:20250702T160000
DTSTAMP:20260424T101909
CREATED:20250525T121802Z
LAST-MODIFIED:20250525T121802Z
UID:59159-1751464800-1751472000@jikka-katazuke.jp
SUMMARY:【小平】2回連続「元気なうちに始める終活　物とお金の整理のきほん」抽選
DESCRIPTION:シニア講座「元気なうちに始める終活　物とお金の整理のきほん」 \nこれからの人生が楽しくなる、部屋の片づけやお金に関する書類整理を学ぶ、実践的なワークショップです。 \n\n開催日\n2025年6月27日（金曜）\n2025年7月2日（水曜）\n2回連続講座\n\n\n6月27日（金曜）午前10時から正午まで、7月2日（水曜）午後2時から4時まで　全2回 \n会場 \n上水南公民館　ホール \n対象　小平市内在住・在勤・在学のおおむね60歳以上の方\n（注）原則として2回とも出席できる方。 \n定員　24人 \n講師　渡部　亜矢（一般社団法人実家片づけ整理協会代表理事） \n電話・メールでのお申込み\n6月19日（木曜）までに上水南公民館へ（電話受付は、日曜・月曜日を除く午前9時から午後5時まで）
URL:https://jikka-katazuke.jp/event/%e3%80%90%e5%b0%8f%e5%b9%b3%e3%80%912%e5%9b%9e%e9%80%a3%e7%b6%9a%e3%80%8c%e5%85%83%e6%b0%97%e3%81%aa%e3%81%86%e3%81%a1%e3%81%ab%e5%a7%8b%e3%82%81%e3%82%8b%e7%b5%82%e6%b4%bb%e3%80%80%e7%89%a9-2/
ATTACH;FMTTYPE=image/jpeg:https://jikka-katazuke.jp/wp-content/uploads/2025/05/e69f8865a4aa38e463b16dfda455372d.jpg
END:VEVENT
END:VCALENDAR