BEGIN:VCALENDAR
VERSION:2.0
PRODID:-//【公式】実家片づけ整理協会 - ECPv6.15.20//NONSGML v1.0//EN
CALSCALE:GREGORIAN
METHOD:PUBLISH
X-WR-CALNAME:【公式】実家片づけ整理協会
X-ORIGINAL-URL:https://jikka-katazuke.jp
X-WR-CALDESC:【公式】実家片づけ整理協会 のイベント
REFRESH-INTERVAL;VALUE=DURATION:PT1H
X-Robots-Tag:noindex
X-PUBLISHED-TTL:PT1H
BEGIN:VTIMEZONE
TZID:Asia/Tokyo
BEGIN:STANDARD
TZOFFSETFROM:+0900
TZOFFSETTO:+0900
TZNAME:JST
DTSTART:20240101T000000
END:STANDARD
END:VTIMEZONE
BEGIN:VEVENT
DTSTART;TZID=Asia/Tokyo:20250616T133000
DTEND;TZID=Asia/Tokyo:20250616T150000
DTSTAMP:20260424T121305
CREATED:20250404T014918Z
LAST-MODIFIED:20250405T023231Z
UID:59082-1750080600-1750086000@jikka-katazuke.jp
SUMMARY:【横浜】ラクで楽しい！自宅と実家の片づけ術～本･紙モノ･服･重要品までスッキリ!～
DESCRIPTION:ラクで楽しい！自宅と実家の片づけ術　-本･紙モノ･服･重要品までスッキリ!- \n2025年06月16日（月曜日）13時30分から15時00分\n磯子公会堂 講堂（磯子区総合庁舎内） \n【講師】　　　一般社団法人 実家片づけ整理協会\n代表理事 渡部 亜矢 \n【日時】　　　令和7(2025)年6月16日（月曜）13時30分から15時00分まで\n（開場・受付：13時から） \n【会場】　　　磯子公会堂 講堂（磯子区総合庁舎内） \n【所在地】　　横浜市磯子区磯子3-5-1 \n【交通】　　　JR根岸線「磯子」駅下車、徒歩約5分\n市営・京急バス「磯子区総合庁舎前」下車すぐ \n【参加費】　　無料 \n【定員】　　　400名（当日、先着順） \n主催　（公財）横浜市消費者協会　横浜市消費生活総合センター\nhttps://www.yokohama-consumer.or.jp/study/lecture/detail2317.html
URL:https://jikka-katazuke.jp/event/%e3%80%90%e6%a8%aa%e6%b5%9c%e7%a3%af%e5%ad%90%e3%80%91%e3%83%a9%e3%82%af%e3%81%a7%e6%a5%bd%e3%81%97%e3%81%84%ef%bc%81%e8%87%aa%e5%ae%85%e3%81%a8%e5%ae%9f%e5%ae%b6%e3%81%ae%e7%89%87%e3%81%a5%e3%81%91/
ATTACH;FMTTYPE=image/jpeg:https://jikka-katazuke.jp/wp-content/uploads/2025/04/b81db71975becb00f86438f5b402e2b4.jpg
END:VEVENT
END:VCALENDAR