BEGIN:VCALENDAR
VERSION:2.0
PRODID:-//【公式】実家片づけ整理協会 - ECPv6.15.20//NONSGML v1.0//EN
CALSCALE:GREGORIAN
METHOD:PUBLISH
X-ORIGINAL-URL:https://jikka-katazuke.jp
X-WR-CALDESC:【公式】実家片づけ整理協会 のイベント
REFRESH-INTERVAL;VALUE=DURATION:PT1H
X-Robots-Tag:noindex
X-PUBLISHED-TTL:PT1H
BEGIN:VTIMEZONE
TZID:Asia/Tokyo
BEGIN:STANDARD
TZOFFSETFROM:+0900
TZOFFSETTO:+0900
TZNAME:JST
DTSTART:20240101T000000
END:STANDARD
END:VTIMEZONE
BEGIN:VEVENT
DTSTART;TZID=Asia/Tokyo:20250513T093000
DTEND;TZID=Asia/Tokyo:20250513T163000
DTSTAMP:20260424T172559
CREATED:20250505T114730Z
LAST-MODIFIED:20250505T114730Z
UID:59142-1747128600-1747153800@jikka-katazuke.jp
SUMMARY:【認定】実家片づけアドバイザー®認定講座１・2級同時取得　1日コース
DESCRIPTION:【認定】実家片づけアドバイザー®認定講座１・2級同時取得　1日コース\n\n\n\n＊オンライン\n9：30-16：30　休憩・昼休憩を含む 試験別途 \n講師　代表理事・実家片づけアドバイザー認定講師　渡部亜矢ほか \n日程が合わない場合、対面ご希望の場合はお問い合わせください。 \n＊年会費はありません。 \n認定講座の詳細はこちら
URL:https://jikka-katazuke.jp/event/%e3%80%90%e8%aa%8d%e5%ae%9a%e3%80%91%e5%ae%9f%e5%ae%b6%e7%89%87%e3%81%a5%e3%81%91%e3%82%a2%e3%83%89%e3%83%90%e3%82%a4%e3%82%b6%e3%83%bc%e8%aa%8d%e5%ae%9a%e8%ac%9b%e5%ba%a7%ef%bc%91%e3%83%bb2-26/
ATTACH;FMTTYPE=image/jpeg:https://jikka-katazuke.jp/wp-content/uploads/2024/03/onlinekouza.jpg
END:VEVENT
BEGIN:VEVENT
DTSTART;TZID=Asia/Tokyo:20250513T193000
DTEND;TZID=Asia/Tokyo:20250513T210000
DTSTAMP:20260424T172559
CREATED:20250508T001817Z
LAST-MODIFIED:20250508T001832Z
UID:59144-1747164600-1747170000@jikka-katazuke.jp
SUMMARY:【第88回 定例オフ会】「空き家にしない！不安を減らす！重要書類の片づけ方」
DESCRIPTION:【第88回 定例オフ会】\n\n\n 「空き家にしない！不安を減らす！重要書類の片づけ方」 \n\n\n 日時：5月13日（火）19:30～20:30（※最長21:00まで） 開催方法：オンライン（Zoom） 対象：オンラインサロン会員限定\n\n\n「もしも」の時に備え、空き家のリスクや相続時の混乱を減らすためには、重要書類の整理がカギになります。\n\n\n今回のオフ会では、 自分でできること／専門家に頼むべきことの見極め方 将来に向けた備えとして、今からできる書類整理の工夫をわかりやすくシェアします。\n\n\n日々の暮らしの中で後回しになりがちな書類整理。気軽に話し合える場で、お客様の背中を押す、一歩踏み出すヒントを見つけてみませんか？
URL:https://jikka-katazuke.jp/event/%e3%80%90%e7%ac%ac88%e5%9b%9e-%e5%ae%9a%e4%be%8b%e3%82%aa%e3%83%95%e4%bc%9a%e3%80%91%e3%80%8c%e7%a9%ba%e3%81%8d%e5%ae%b6%e3%81%ab%e3%81%97%e3%81%aa%e3%81%84%ef%bc%81%e4%b8%8d%e5%ae%89%e3%82%92/
ATTACH;FMTTYPE=image/jpeg:https://jikka-katazuke.jp/wp-content/uploads/2025/05/IMG_5329-1-scaled.jpg
END:VEVENT
END:VCALENDAR