BEGIN:VCALENDAR
VERSION:2.0
PRODID:-//【公式】実家片づけ整理協会 - ECPv6.15.20//NONSGML v1.0//EN
CALSCALE:GREGORIAN
METHOD:PUBLISH
X-WR-CALNAME:【公式】実家片づけ整理協会
X-ORIGINAL-URL:https://jikka-katazuke.jp
X-WR-CALDESC:【公式】実家片づけ整理協会 のイベント
REFRESH-INTERVAL;VALUE=DURATION:PT1H
X-Robots-Tag:noindex
X-PUBLISHED-TTL:PT1H
BEGIN:VTIMEZONE
TZID:Asia/Tokyo
BEGIN:STANDARD
TZOFFSETFROM:+0900
TZOFFSETTO:+0900
TZNAME:JST
DTSTART:20240101T000000
END:STANDARD
END:VTIMEZONE
BEGIN:VEVENT
DTSTART;TZID=Asia/Tokyo:20250418T193000
DTEND;TZID=Asia/Tokyo:20250418T210000
DTSTAMP:20260424T154141
CREATED:20250410T022009Z
LAST-MODIFIED:20250410T022246Z
UID:59087-1745004600-1745010000@jikka-katazuke.jp
SUMMARY:【第87回 定例オフ会】「新年度！紙モノ・デジタル類スッキリ大作戦」
DESCRIPTION:【第87回 定例オフ会】\n「新年度！紙モノ・デジタル類スッキリ大作戦」 \n📅 日時：4月18日（火）19:30～20:30（最大21:00まで）\n📍 開催方法：オンライン\n🎯 対象：オンラインサロンメンバー \nたまった書類や写真、デジタルデータなど、”紙モノ・デジタル類”の整理を一緒にしませんか？ \n✔ 気づけばたまっている紙資料やDM\n✔ バックアップしっぱなしのスマホ写真\n✔ カオスなパソコンの中身… \nそんな”見て見ぬふりゾーン”に、この1時間でスッキリのきっかけを作りに役立てましょう。 \n 
URL:https://jikka-katazuke.jp/event/%e3%80%90%e7%ac%ac87%e5%9b%9e-%e5%ae%9a%e4%be%8b%e3%82%aa%e3%83%95%e4%bc%9a%e3%80%91%e3%80%8c%e6%96%b0%e5%b9%b4%e5%ba%a6%ef%bc%81%e7%b4%99%e3%83%a2%e3%83%8e%e3%83%bb%e3%83%87%e3%82%b8%e3%82%bf/
ATTACH;FMTTYPE=image/jpeg:https://jikka-katazuke.jp/wp-content/uploads/2025/04/DSC2574-scaled.jpg
END:VEVENT
END:VCALENDAR