BEGIN:VCALENDAR
VERSION:2.0
PRODID:-//【公式】実家片づけ整理協会 - ECPv6.15.20//NONSGML v1.0//EN
CALSCALE:GREGORIAN
METHOD:PUBLISH
X-ORIGINAL-URL:https://jikka-katazuke.jp
X-WR-CALDESC:【公式】実家片づけ整理協会 のイベント
REFRESH-INTERVAL;VALUE=DURATION:PT1H
X-Robots-Tag:noindex
X-PUBLISHED-TTL:PT1H
BEGIN:VTIMEZONE
TZID:Asia/Tokyo
BEGIN:STANDARD
TZOFFSETFROM:+0900
TZOFFSETTO:+0900
TZNAME:JST
DTSTART:20240101T000000
END:STANDARD
END:VTIMEZONE
BEGIN:VEVENT
DTSTART;TZID=Asia/Tokyo:20250314T133000
DTEND;TZID=Asia/Tokyo:20250314T150000
DTSTAMP:20260424T172559
CREATED:20250226T023336Z
LAST-MODIFIED:20250304T234719Z
UID:59029-1741959000-1741964400@jikka-katazuke.jp
SUMMARY:【川崎麻生区】人生１００年時代の片づけ術「物とお金を整理するコツ」
DESCRIPTION:人生１００年時代の片づけ術「物とお金を整理するコツ」 \nすぐに実践できる片づけ・整理のコツを学びましょう！ \n日時：３月14日（金）13：30～15：00\n受付13：15～\n場所：るーむら麻生3階　（麻生区東百合丘3-17-4）\n定員：20名（先着順・参加無料） \n主催申し込み　　川崎市麻生区　百合丘地域包括支援センター\n044-959-6522 \n講師：一般社団法人　実家片づけ整理協会\n代表理事　渡部亜矢
URL:https://jikka-katazuke.jp/event/%e3%80%90%e5%b7%9d%e5%b4%8e%e9%ba%bb%e7%94%9f%e5%8c%ba%e3%80%91%e4%ba%ba%e7%94%9f%ef%bc%91%ef%bc%90%ef%bc%90%e5%b9%b4%e6%99%82%e4%bb%a3%e3%81%ae%e7%89%87%e3%81%a5%e3%81%91%e8%a1%93%e3%80%8c%e7%89%a9/
ATTACH;FMTTYPE=image/jpeg:https://jikka-katazuke.jp/wp-content/uploads/2025/02/5309dd4172667b44ea5a99268d57d63b.jpg
END:VEVENT
END:VCALENDAR