BEGIN:VCALENDAR
VERSION:2.0
PRODID:-//【公式】実家片づけ整理協会 - ECPv6.15.20//NONSGML v1.0//EN
CALSCALE:GREGORIAN
METHOD:PUBLISH
X-WR-CALNAME:【公式】実家片づけ整理協会
X-ORIGINAL-URL:https://jikka-katazuke.jp
X-WR-CALDESC:【公式】実家片づけ整理協会 のイベント
REFRESH-INTERVAL;VALUE=DURATION:PT1H
X-Robots-Tag:noindex
X-PUBLISHED-TTL:PT1H
BEGIN:VTIMEZONE
TZID:Asia/Tokyo
BEGIN:STANDARD
TZOFFSETFROM:+0900
TZOFFSETTO:+0900
TZNAME:JST
DTSTART:20240101T000000
END:STANDARD
END:VTIMEZONE
BEGIN:VEVENT
DTSTART;TZID=Asia/Tokyo:20250211T133000
DTEND;TZID=Asia/Tokyo:20250211T153000
DTSTAMP:20260424T205235
CREATED:20241218T025756Z
LAST-MODIFIED:20250208T001534Z
UID:58913-1739280600-1739287800@jikka-katazuke.jp
SUMMARY:【浦安】増席〆切「自宅と実家の快適片づけ講座～知って得する！モノとお金のカンタン終活のコツ～」
DESCRIPTION:住まいの講習会「自宅と実家の快適片づけ講座”知って得する！モノとお金のカンタン終活のコツ”」 \n家の散らかりにお悩みではありませんか？人生100年時代に合わせて、今日から始められる片づけのコツをご紹介します。モノとお金の整理で、安心な生活を手に入れましょう。 \n（下記は浦安市HPより） \n令和7年2月11日（火曜日） \n開催時間\n午後1時30分 から 午後3時30分 まで（午後1時15分開場） \n場所\n市民プラザWave101大ホール \n対象\n市内在住の方 \n定員　先着順　70人　→満席、90名に増席　〆切 \n講師\n渡部　亜矢　氏（一般社団法人実家片づけ整理協会代表理事、実家片づけアドバイザー） \n費用\n不要 \n申し込み締め切り日\n令和7年2月6日（木曜日） \n申し込み・主催　浦安市住宅課 \n電話またはEメールで、住宅課へ以下の内容をお伝えください。\nEメール：件名「2月11日住まいの講習会申込」\n氏名（ふりがな）・住所・電話番号・参加人数・事前に聞きたいこと（ある場合）\n電話：047-712-6284\nEメール： jyutaku@city.urayasu.lg.jp \n 
URL:https://jikka-katazuke.jp/event/%e3%80%90%e6%b5%a6%e5%ae%89%e3%80%91%e3%80%8c%e8%87%aa%e5%ae%85%e3%81%a8%e5%ae%9f%e5%ae%b6%e3%81%ae%e5%bf%ab%e9%81%a9%e7%89%87%e3%81%a5%e3%81%91%e8%ac%9b%e5%ba%a7%ef%bd%9e%e7%9f%a5%e3%81%a3%e3%81%a6/
ATTACH;FMTTYPE=image/jpeg:https://jikka-katazuke.jp/wp-content/uploads/2024/12/514fe74f70a4160de7181c323efa07f5.jpg
END:VEVENT
END:VCALENDAR