BEGIN:VCALENDAR
VERSION:2.0
PRODID:-//【公式】実家片づけ整理協会 - ECPv6.15.20//NONSGML v1.0//EN
CALSCALE:GREGORIAN
METHOD:PUBLISH
X-WR-CALNAME:【公式】実家片づけ整理協会
X-ORIGINAL-URL:https://jikka-katazuke.jp
X-WR-CALDESC:【公式】実家片づけ整理協会 のイベント
REFRESH-INTERVAL;VALUE=DURATION:PT1H
X-Robots-Tag:noindex
X-PUBLISHED-TTL:PT1H
BEGIN:VTIMEZONE
TZID:Asia/Tokyo
BEGIN:STANDARD
TZOFFSETFROM:+0900
TZOFFSETTO:+0900
TZNAME:JST
DTSTART:20240101T000000
END:STANDARD
END:VTIMEZONE
BEGIN:VEVENT
DTSTART;TZID=Asia/Tokyo:20250116T140000
DTEND;TZID=Asia/Tokyo:20250116T153000
DTSTAMP:20260425T003021
CREATED:20241121T133916Z
LAST-MODIFIED:20241121T134434Z
UID:58702-1737036000-1737041400@jikka-katazuke.jp
SUMMARY:【小平】高齢になっても安心して暮らすために―自分も家族もオーナーも、安心できる家財整理のコツ―（無料）
DESCRIPTION:高齢になっても安心して暮らすために\n―自分も家族もオーナーも、安心できる家財整理のコツ―（無料） \n2025年1月16日（木曜） \n家賃が高くて住み続けられない、今住んでいるアパートを立ち退かなければならない、高齢者の住まい探しは断られてしまうなど、高齢者の住まいに関する問題はさまざまです。 \n高齢者の住まい探しが断られてしまう理由の一つとして、もしもの時に残された家財をどうするか、という問題に対して、貸主が不安に思っている状況があるようです。\n日頃からできる、もしもの時に備えるための家財整理のコツをお伝えします。 \n・・・・・・・・・・・・・・\n講演会「高齢になっても安心して暮らすために―自分も家族もオーナーも、安心できる家財整理のコツ―」 \nとき\n令和7年1月16日（木曜）　午後2時～3時30分　1時30分開場 \nところ\n福祉会館4階小ホール（東京都小平市） \n対象\n次のいずれかに該当する方 \n家財整理に関心がある方\n今後、住まい探しを考えている方\nオーナーなど、住宅の管理に携わっている方 \n定員\n40人 \n申込み・問い合わせ・主催\n1月15日（水曜）までに申し込み（先着順）\n小平市高齢者支援課事業推進担当\n電話：042-346-9642 \n 
URL:https://jikka-katazuke.jp/event/%e3%80%90%e5%b0%8f%e5%b9%b3%e3%80%91%e9%ab%98%e9%bd%a2%e3%81%ab%e3%81%aa%e3%81%a3%e3%81%a6%e3%82%82%e5%ae%89%e5%bf%83%e3%81%97%e3%81%a6%e6%9a%ae%e3%82%89%e3%81%99%e3%81%9f%e3%82%81%e3%81%ab%e2%80%95/
ATTACH;FMTTYPE=image/jpeg:https://jikka-katazuke.jp/wp-content/uploads/2024/11/ab36133f6922bc71ac5ca8983f0d0bfb.jpg
END:VEVENT
END:VCALENDAR