BEGIN:VCALENDAR
VERSION:2.0
PRODID:-//【公式】実家片づけ整理協会 - ECPv6.15.20//NONSGML v1.0//EN
CALSCALE:GREGORIAN
METHOD:PUBLISH
X-ORIGINAL-URL:https://jikka-katazuke.jp
X-WR-CALDESC:【公式】実家片づけ整理協会 のイベント
REFRESH-INTERVAL;VALUE=DURATION:PT1H
X-Robots-Tag:noindex
X-PUBLISHED-TTL:PT1H
BEGIN:VTIMEZONE
TZID:Asia/Tokyo
BEGIN:STANDARD
TZOFFSETFROM:+0900
TZOFFSETTO:+0900
TZNAME:JST
DTSTART:20230101T000000
END:STANDARD
END:VTIMEZONE
BEGIN:VEVENT
DTSTART;TZID=Asia/Tokyo:20241128T140000
DTEND;TZID=Asia/Tokyo:20241128T160000
DTSTAMP:20260424T225250
CREATED:20241113T145814Z
LAST-MODIFIED:20241126T003321Z
UID:58668-1732802400-1732809600@jikka-katazuke.jp
SUMMARY:【横須賀】自宅と実家の片づけ相談会（対面・無料）
DESCRIPTION:昨年度に空き家対策モデル事業で実施した自宅と実家の片づけ相談会（対面）を、今年も開催いたします（先着5名・無料）。 \n先着5名様に片づけの冊子をお渡しします。 \n時間帯によりお待ちいただくことがございます。何卒ご了承ください。 \n横須賀市都市部まちなみ景観課「空き家所有者・管理者向け相談会」との同時開催です。\n横須賀市に自宅または実家がある方はお気軽にご参加ください。 \n（以下、横須賀市のHPより）\n・・・・・・・・・・・・・・・・・・・・・ \n自宅と実家の片づけ相談会（対面）\n空き家になるのを防ぐために自宅や実家を片づけたいと考えている方を対象に、実家片づけアドバイザーが相談会を実施します。 \n開催時間：14時00分から16時00分まで（予約不要・当日受付） \n開催場所：横須賀市役所本館3号館5階 正庁　(空き家所有者・管理者向け相談会と同じ会場) \n対象者：自宅か実家が横須賀にある方 \n定員組数：先着5組（1組20分程度） \n時間帯によりお待ちいただくことがございます。ご了承のうえお越しください。 \n \n・・・・・・・・・・・・・・・・・・・ \n空き家所有者・管理者向け相談会\n市では、定住を促す魅力的な都市環境づくりと人口減少社会に対応した総合的な住宅政策を推進するため、空き家を含めた住宅の有効活用や流通促進などに取り組んでいます。 \nその取り組みの一環として、市内の空き家を所有・管理する方が抱えるお悩み・心配事について、不動産事業者、司法書士、建築士、税理士などの専門家から、相談内容に応じた個別アドバイスを受けることができる「空き家所有者・管理者向け相談会」を開催しています。 \n令和6年11月28日（木曜日）\n開催時間：14時00分から16時00分まで（要事前予約） \n開催場所：横須賀市役所本館3号館5階　正庁 \n定員：先着12組 \n〔予約申込先〕 \n横須賀市役所　まちなみ景観課　住まい活用促進担当（電話：046-822-8077）
URL:https://jikka-katazuke.jp/event/%e3%80%90%e6%a8%aa%e9%a0%88%e8%b3%80%e3%80%91%e8%87%aa%e5%ae%85%e3%81%a8%e5%ae%9f%e5%ae%b6%e3%81%ae%e7%89%87%e3%81%a5%e3%81%91%e7%9b%b8%e8%ab%87%e4%bc%9a%ef%bc%88%e5%af%be%e9%9d%a2%e3%83%bb%e7%84%a1/
ATTACH;FMTTYPE=image/jpeg:https://jikka-katazuke.jp/wp-content/uploads/2024/11/266226661b33df4e6a4c85026da3f2aa-scaled.jpg
END:VEVENT
END:VCALENDAR