BEGIN:VCALENDAR
VERSION:2.0
PRODID:-//【公式】実家片づけ整理協会 - ECPv6.15.20//NONSGML v1.0//EN
CALSCALE:GREGORIAN
METHOD:PUBLISH
X-WR-CALNAME:【公式】実家片づけ整理協会
X-ORIGINAL-URL:https://jikka-katazuke.jp
X-WR-CALDESC:【公式】実家片づけ整理協会 のイベント
REFRESH-INTERVAL;VALUE=DURATION:PT1H
X-Robots-Tag:noindex
X-PUBLISHED-TTL:PT1H
BEGIN:VTIMEZONE
TZID:Asia/Tokyo
BEGIN:STANDARD
TZOFFSETFROM:+0900
TZOFFSETTO:+0900
TZNAME:JST
DTSTART:20230101T000000
END:STANDARD
END:VTIMEZONE
BEGIN:VEVENT
DTSTART;TZID=Asia/Tokyo:20241126T140000
DTEND;TZID=Asia/Tokyo:20241126T160000
DTSTAMP:20260425T003019
CREATED:20241021T005443Z
LAST-MODIFIED:20241021T005443Z
UID:58624-1732629600-1732636800@jikka-katazuke.jp
SUMMARY:【品川】「知って役立つ！終活はじめ、片づけ講座」成年後見制度普及啓発講座（無料）
DESCRIPTION:第5回成年後見制度普及啓発講座　　　　　　　　　　　　　　　　　　　　　　　　　　　　　　　　　「知って役立つ！終活はじめ、片づけ講座」を開催します。 \n日　時／11月26日（火）午後2時～午後4時 \n場　所／品川区社会福祉協議会3階会議室（大井1-14-1） \n講師　実家片づけアドバイザーの渡部亜矢（実家片づけ整理協会 代表理事） \n下記は品川成年後見センターより抜粋 \nこれから終活を始める方、整理をしたいけれど何から手を付けたらいいか分からない方、当センターの事業を知りたい方など、少しでもご興味のある方はぜひご参加ください！ \n参加者／30人（先着） \n参加費／無料 \n申　込／11月19日（火）午後5時までに、電話またはFAXで　　　　　　　　　　　　　　　　　　　　　　　　　　　　　　　品川成年後見センター（電話５７１８-７１７４fax６４２９－７６００）へ \n 
URL:https://jikka-katazuke.jp/event/%e3%80%90%e5%93%81%e5%b7%9d%e3%80%91%e3%80%8c%e7%9f%a5%e3%81%a3%e3%81%a6%e5%bd%b9%e7%ab%8b%e3%81%a4%ef%bc%81%e7%b5%82%e6%b4%bb%e3%81%af%e3%81%98%e3%82%81%e3%80%81%e7%89%87%e3%81%a5%e3%81%91%e8%ac%9b/
ATTACH;FMTTYPE=image/jpeg:https://jikka-katazuke.jp/wp-content/uploads/2024/10/e1cbfe753796ab44d87d7520c961e79a.jpg
END:VEVENT
END:VCALENDAR