BEGIN:VCALENDAR
VERSION:2.0
PRODID:-//【公式】実家片づけ整理協会 - ECPv6.15.20//NONSGML v1.0//EN
CALSCALE:GREGORIAN
METHOD:PUBLISH
X-WR-CALNAME:【公式】実家片づけ整理協会
X-ORIGINAL-URL:https://jikka-katazuke.jp
X-WR-CALDESC:【公式】実家片づけ整理協会 のイベント
REFRESH-INTERVAL;VALUE=DURATION:PT1H
X-Robots-Tag:noindex
X-PUBLISHED-TTL:PT1H
BEGIN:VTIMEZONE
TZID:Asia/Tokyo
BEGIN:STANDARD
TZOFFSETFROM:+0900
TZOFFSETTO:+0900
TZNAME:JST
DTSTART:20230101T000000
END:STANDARD
END:VTIMEZONE
BEGIN:VEVENT
DTSTART;TZID=Asia/Tokyo:20241112T133000
DTEND;TZID=Asia/Tokyo:20241112T150000
DTSTAMP:20260425T022023
CREATED:20241001T142426Z
LAST-MODIFIED:20241006T112134Z
UID:58546-1731418200-1731423600@jikka-katazuke.jp
SUMMARY:【岩手県久慈】自宅と実家の片づけ講座 ～モノの持ち方や整理のコツ～（無料）
DESCRIPTION:賢い消費者になろう！「令和６年度消費者力アップ講習会」 \n自宅と実家の片づけ講座～モノの持ち方や整理のコツ～ \n講師　一社　実家片づけ整理協会　代表理事　渡部亜矢 \n主催　久慈市・久慈広域消費生活センター \n参加無料 \n会場　岩手県久慈市役所
URL:https://jikka-katazuke.jp/event/%e3%80%90%e5%b2%a9%e6%89%8b%e7%9c%8c%e4%b9%85%e6%85%88%e5%b8%82%e3%80%91%e8%87%aa%e5%ae%85%e3%81%a8%e5%ae%9f%e5%ae%b6%e3%81%ae%e7%89%87%e3%81%a5%e3%81%91%e8%ac%9b%e5%ba%a7-%ef%bd%9e%e3%83%a2%e3%83%8e/
ATTACH;FMTTYPE=image/jpeg:https://jikka-katazuke.jp/wp-content/uploads/2024/10/d738979045a55eecae1c7e719146c00c.jpg
END:VEVENT
END:VCALENDAR