BEGIN:VCALENDAR
VERSION:2.0
PRODID:-//【公式】実家片づけ整理協会 - ECPv6.15.20//NONSGML v1.0//EN
CALSCALE:GREGORIAN
METHOD:PUBLISH
X-WR-CALNAME:【公式】実家片づけ整理協会
X-ORIGINAL-URL:https://jikka-katazuke.jp
X-WR-CALDESC:【公式】実家片づけ整理協会 のイベント
REFRESH-INTERVAL;VALUE=DURATION:PT1H
X-Robots-Tag:noindex
X-PUBLISHED-TTL:PT1H
BEGIN:VTIMEZONE
TZID:Asia/Tokyo
BEGIN:STANDARD
TZOFFSETFROM:+0900
TZOFFSETTO:+0900
TZNAME:JST
DTSTART:20230101T000000
END:STANDARD
END:VTIMEZONE
BEGIN:VEVENT
DTSTART;TZID=Asia/Tokyo:20241028T130000
DTEND;TZID=Asia/Tokyo:20241028T143000
DTSTAMP:20260425T022025
CREATED:20241022T111020Z
LAST-MODIFIED:20241022T111020Z
UID:58633-1730120400-1730125800@jikka-katazuke.jp
SUMMARY:実家の片づけで役立つ「話し方」～「物コミュニケーション」実践編～（第83回定例オフ会）
DESCRIPTION:実家の片づけで役立つ「話し方」～「物コミュニケーション」実践編～ \n第83回定例オフ会\n10月28日（月）13:00～14:30\n場所：東京都渋谷　ランチ会\n対象：オンラインサロンメンバー
URL:https://jikka-katazuke.jp/event/%e5%ae%9f%e5%ae%b6%e3%81%ae%e7%89%87%e3%81%a5%e3%81%91%e3%81%a7%e5%bd%b9%e7%ab%8b%e3%81%a4%e3%80%8c%e8%a9%b1%e3%81%97%e6%96%b9%e3%80%8d%ef%bd%9e%e3%80%8c%e7%89%a9%e3%82%b3%e3%83%9f%e3%83%a5%e3%83%8b/
ATTACH;FMTTYPE=image/jpeg:https://jikka-katazuke.jp/wp-content/uploads/2024/03/onlinekouza.jpg
END:VEVENT
END:VCALENDAR