BEGIN:VCALENDAR
VERSION:2.0
PRODID:-//【公式】実家片づけ整理協会 - ECPv6.15.20//NONSGML v1.0//EN
CALSCALE:GREGORIAN
METHOD:PUBLISH
X-WR-CALNAME:【公式】実家片づけ整理協会
X-ORIGINAL-URL:https://jikka-katazuke.jp
X-WR-CALDESC:【公式】実家片づけ整理協会 のイベント
REFRESH-INTERVAL;VALUE=DURATION:PT1H
X-Robots-Tag:noindex
X-PUBLISHED-TTL:PT1H
BEGIN:VTIMEZONE
TZID:Asia/Tokyo
BEGIN:STANDARD
TZOFFSETFROM:+0900
TZOFFSETTO:+0900
TZNAME:JST
DTSTART:20230101T000000
END:STANDARD
END:VTIMEZONE
BEGIN:VEVENT
DTSTART;TZID=Asia/Tokyo:20240920T133000
DTEND;TZID=Asia/Tokyo:20240920T153000
DTSTAMP:20260425T072112
CREATED:20240827T160343Z
LAST-MODIFIED:20240905T001348Z
UID:58514-1726839000-1726846200@jikka-katazuke.jp
SUMMARY:【葛飾区】増員〆切　人生100年時代の片づけ術 ～物とお金を整理するコツ～
DESCRIPTION:長寿化・少子高齢化が進む中、生前整理と遺品整理で困らない、実践しやすい片づけ術を学びます。 \n\n令和6年度 消費者講座『人生100年時代の片づけ術 ～物とお金を整理するコツ～』\n\n開催日\n令和6年9月20日（金曜日）\n時間\n午後1時30分から3時30分　開場午後1時00分\n会場\nウィメンズパル\n対象\n区内在住・在勤・在学の方\n2歳以上就学前のお子さん　保育あり\n\n主催　東京都葛飾区消費者センター\n\n　　事前申込　必須\n　（申込締切　40名→150名に増員〆切）
URL:https://jikka-katazuke.jp/event/%e3%80%90%e8%91%9b%e9%a3%be%e5%8c%ba%e3%80%91%e4%ba%ba%e7%94%9f100%e5%b9%b4%e6%99%82%e4%bb%a3%e3%81%ae%e7%89%87%e3%81%a5%e3%81%91%e8%a1%93-%ef%bd%9e%e7%89%a9%e3%81%a8%e3%81%8a%e9%87%91%e3%82%92/
ATTACH;FMTTYPE=application/pdf:https://jikka-katazuke.jp/wp-content/uploads/2024/08/flier-100iyear-r6.pdf
END:VEVENT
END:VCALENDAR