BEGIN:VCALENDAR
VERSION:2.0
PRODID:-//【公式】実家片づけ整理協会 - ECPv6.15.20//NONSGML v1.0//EN
CALSCALE:GREGORIAN
METHOD:PUBLISH
X-WR-CALNAME:【公式】実家片づけ整理協会
X-ORIGINAL-URL:https://jikka-katazuke.jp
X-WR-CALDESC:【公式】実家片づけ整理協会 のイベント
REFRESH-INTERVAL;VALUE=DURATION:PT1H
X-Robots-Tag:noindex
X-PUBLISHED-TTL:PT1H
BEGIN:VTIMEZONE
TZID:Asia/Tokyo
BEGIN:STANDARD
TZOFFSETFROM:+0900
TZOFFSETTO:+0900
TZNAME:JST
DTSTART:20230101T000000
END:STANDARD
END:VTIMEZONE
BEGIN:VEVENT
DTSTART;TZID=Asia/Tokyo:20240710T180000
DTEND;TZID=Asia/Tokyo:20240710T190000
DTSTAMP:20260425T104210
CREATED:20240623T151146Z
LAST-MODIFIED:20240623T151146Z
UID:58325-1720634400-1720638000@jikka-katazuke.jp
SUMMARY:【京都】知って得する！家庭の片づけ術　ハイブリッド
DESCRIPTION:知って得する！家庭の片づけ術 \n主催・対象　京都市内　大手保険会社様 \n講師　実家片づけ整理協会　渡部亜矢 \n講演・オンライン　ハイブリッド形式 \n 
URL:https://jikka-katazuke.jp/event/%e3%80%90%e4%ba%ac%e9%83%bd%e3%80%91%e7%9f%a5%e3%81%a3%e3%81%a6%e5%be%97%e3%81%99%e3%82%8b%ef%bc%81%e5%ae%b6%e5%ba%ad%e3%81%ae%e7%89%87%e3%81%a5%e3%81%91%e8%a1%93%e3%80%80%e3%83%8f%e3%82%a4%e3%83%96/
ATTACH;FMTTYPE=image/jpeg:https://jikka-katazuke.jp/wp-content/uploads/2024/03/katadukekata.jpg
END:VEVENT
END:VCALENDAR