BEGIN:VCALENDAR
VERSION:2.0
PRODID:-//【公式】実家片づけ整理協会 - ECPv6.15.20//NONSGML v1.0//EN
CALSCALE:GREGORIAN
METHOD:PUBLISH
X-WR-CALNAME:【公式】実家片づけ整理協会
X-ORIGINAL-URL:https://jikka-katazuke.jp
X-WR-CALDESC:【公式】実家片づけ整理協会 のイベント
REFRESH-INTERVAL;VALUE=DURATION:PT1H
X-Robots-Tag:noindex
X-PUBLISHED-TTL:PT1H
BEGIN:VTIMEZONE
TZID:Asia/Tokyo
BEGIN:STANDARD
TZOFFSETFROM:+0900
TZOFFSETTO:+0900
TZNAME:JST
DTSTART:20250101T000000
END:STANDARD
END:VTIMEZONE
BEGIN:VEVENT
DTSTART;TZID=Asia/Tokyo:20260301T140000
DTEND;TZID=Asia/Tokyo:20260301T160000
DTSTAMP:20260423T183358
CREATED:20260201T000043Z
LAST-MODIFIED:20260205T115636Z
UID:59767-1772373600-1772380800@jikka-katazuke.jp
SUMMARY:【東京北区】（満席〆切）親も自分もラクになる！自宅と実家の片づけ術～“これから”の安心をつくるモノと心の整え方～
DESCRIPTION:親も自分もラクになる！自宅と実家の片づけ術～“これから”の安心をつくるモノと心の整え方～\n男女共同参画介護離職防止講座\n親も自分もラクになる！自宅と実家の片づけ術～“これから”の安心をつくるモノと心の整え方～\n自宅や実家の片づけに悩んでいませんか？ \n片づけは“モノを減らす”だけではなく、暮らし方そのものを見直し、介護への不安をやわらげる大切な備えにもつながります。本講座では、親も自分もラクになる実践的な整理のコツと、家族だからこそできるサポートのポイントをやさしく解説します。 \n“これから”を安心して暮らせる住まいづくりを、一緒に始めてみませんか。 \n開催日\n2026年3月1日（日曜日） \n開催時間\n午後2時から午後4時まで\n※開場は、午後1時40分からです。 \n開催場所\nスペースゆう多目的室AB（北とぴあ5階） \n対象\nテーマに関心のある方 \n講師\n渡部 亜矢 （一般社団法人 実家片づけ整理協会代表理事、実家片づけアドバイザーⓇ、片づけ講師） \n定員\n40名（申込順）増員満席〆切 \n申込先・主催\nスペースゆう窓口申込フォーム、電話、\n(保育1歳以上の未就学児対象。定員〆切等あり) \n申込開始日時\n令和8年2月3日（火曜日）午前9時
URL:https://jikka-katazuke.jp/event/%e3%80%90%e5%8c%97%e5%8c%ba%e3%80%91%e8%a6%aa%e3%82%82%e8%87%aa%e5%88%86%e3%82%82%e3%83%a9%e3%82%af%e3%81%ab%e3%81%aa%e3%82%8b%ef%bc%81%e8%87%aa%e5%ae%85%e3%81%a8%e5%ae%9f%e5%ae%b6%e3%81%ae%e7%89%87/
ATTACH;FMTTYPE=image/jpeg:https://jikka-katazuke.jp/wp-content/uploads/2026/02/bc569649ef9d75b331f41094fa5161c5.jpg
END:VEVENT
BEGIN:VEVENT
DTSTART;TZID=Asia/Tokyo:20260313T133000
DTEND;TZID=Asia/Tokyo:20260313T153000
DTSTAMP:20260423T183358
CREATED:20260205T124036Z
LAST-MODIFIED:20260205T124125Z
UID:59774-1773408600-1773415800@jikka-katazuke.jp
SUMMARY:【逗子】自宅と実家の片づけ講座すっきり!整理のヒント（講演・相談会）
DESCRIPTION:自宅と実家の片づけ講座すっきり!　整理のヒント（空き家対策） \n「捨てられない」「思い出の品はどうすれば」「将来が不安」といった片づけの悩みを解消する、整理のコツをお伝えします。 \n講座終了後には片づけや空き家の相談会を実施します。 \n講師　渡部亜矢（(一社)実家片づけ整理協会）\n3月13日㈮13:30～15:00　＊相談会は15:30まで \n対象\n講演：市内在住者および市内に家を所有している人　先着40人\n相談会は先着８人、1人15分 \n申込み　3月10日までに、①住所②氏名③電話番号を、電話・Ｅメールで\n逗子市まちづくり景観課窓口へ
URL:https://jikka-katazuke.jp/event/%e3%80%90%e9%80%97%e5%ad%90%e3%80%91%e8%87%aa%e5%ae%85%e3%81%a8%e5%ae%9f%e5%ae%b6%e3%81%ae%e7%89%87%e3%81%a5%e3%81%91%e8%ac%9b%e5%ba%a7%e3%81%99%e3%81%a3%e3%81%8d%e3%82%8a%e6%95%b4%e7%90%86%e3%81%ae/
ATTACH;FMTTYPE=image/jpeg:https://jikka-katazuke.jp/wp-content/uploads/2026/02/7eba587ab095a53a19a65137fb2999ca.jpg
END:VEVENT
BEGIN:VEVENT
DTSTART;TZID=Asia/Tokyo:20260324T073000
DTEND;TZID=Asia/Tokyo:20260324T210000
DTSTAMP:20260423T183358
CREATED:20260323T092056Z
LAST-MODIFIED:20260323T092056Z
UID:59922-1774337400-1774386000@jikka-katazuke.jp
SUMMARY:第97回 定例オフ会「空き家化・介護の心配を減らす！自宅と空き家の片づけ事例」
DESCRIPTION:第97回 定例オフ会 \nテーマ「空き家化・介護の心配を減らす！自宅と空き家の片づけ事例」 \n2026年3月24日火　19：30－最大21：00　オンライン \n講師　実家片づけ整理協会　渡部亜矢ほかメンバー \n対象　オンラインサロンメンバー
URL:https://jikka-katazuke.jp/event/%e7%ac%ac97%e5%9b%9e-%e5%ae%9a%e4%be%8b%e3%82%aa%e3%83%95%e4%bc%9a%e3%80%8c%e7%a9%ba%e3%81%8d%e5%ae%b6%e5%8c%96%e3%83%bb%e4%bb%8b%e8%ad%b7%e3%81%ae%e5%bf%83%e9%85%8d%e3%82%92%e6%b8%9b%e3%82%89/
ATTACH;FMTTYPE=image/jpeg:https://jikka-katazuke.jp/wp-content/uploads/2025/10/DSC_0407.jpg
END:VEVENT
END:VCALENDAR