BEGIN:VCALENDAR
VERSION:2.0
PRODID:-//【公式】実家片づけ整理協会 - ECPv6.15.20//NONSGML v1.0//EN
CALSCALE:GREGORIAN
METHOD:PUBLISH
X-WR-CALNAME:【公式】実家片づけ整理協会
X-ORIGINAL-URL:https://jikka-katazuke.jp
X-WR-CALDESC:【公式】実家片づけ整理協会 のイベント
REFRESH-INTERVAL;VALUE=DURATION:PT1H
X-Robots-Tag:noindex
X-PUBLISHED-TTL:PT1H
BEGIN:VTIMEZONE
TZID:Asia/Tokyo
BEGIN:STANDARD
TZOFFSETFROM:+0900
TZOFFSETTO:+0900
TZNAME:JST
DTSTART:20240101T000000
END:STANDARD
END:VTIMEZONE
BEGIN:VEVENT
DTSTART;TZID=Asia/Tokyo:20251007T080000
DTEND;TZID=Asia/Tokyo:20251118T170000
DTSTAMP:20260424T020006
CREATED:20250818T142955Z
LAST-MODIFIED:20251111T004524Z
UID:59250-1759824000-1763485200@jikka-katazuke.jp
SUMMARY:【東京都消費生活センター・多摩消費生活センター】紙モノの生前整理 ～今日からできるやさしい整理術～
DESCRIPTION:紙モノの生前整理\n～今日からできるやさしい整理術～ \nくらしフェスタ東京2025\n東京都消費者月間協賛事業 \n講師　一般社団法人実家片づけ整理協会 代表理事　渡部 亜矢 \n主催・申込　東京都消費生活総合センター・多摩消費生活センター \n下記：東京都くらしネットWEB(東京都消費生活総合センター）サイトより引用 \n \n～シニア・ミドルのみなさまへ～\n楽しみながら学ぶ暮らしの連続講座\n自分と家族の人生100年時代の暮らしに備える、お役立ち情報満載の消費生活講座です。\n消費者トラブルにあわないために知っておきたい情報など、人気の講師陣がお話します。\n皆様のご参加をお待ちしております。 \n視聴期間\n令和7年10月7日（火曜日）正午から11月18日（火曜日）正午まで \n視聴方法\nYouTube（申し込み制） \n紙モノの生前整理\n～今日からできるやさしい整理術～ \n講師　一般社団法人実家片づけ整理協会 代表理事 渡部 亜矢 \n詳細\nhttps://www.shouhiseikatu.metro.tokyo.lg.jp/manabitai/koza/center/
URL:https://jikka-katazuke.jp/event/%e3%80%90%e6%9d%b1%e4%ba%ac%e9%83%bd%e6%b6%88%e8%b2%bb%e7%94%9f%e6%b4%bb%e3%82%bb%e3%83%b3%e3%82%bf%e3%83%bc%e3%83%bb%e5%a4%9a%e6%91%a9%e6%b6%88%e8%b2%bb%e7%94%9f%e6%b4%bb%e3%82%bb%e3%83%b3%e3%82%bf/
ATTACH;FMTTYPE=image/jpeg:https://jikka-katazuke.jp/wp-content/uploads/2025/08/e3914724827034f056e3b86619108b66.jpg
END:VEVENT
BEGIN:VEVENT
DTSTART;TZID=Asia/Tokyo:20251104T100000
DTEND;TZID=Asia/Tokyo:20251104T120000
DTSTAMP:20260424T020006
CREATED:20251020T035234Z
LAST-MODIFIED:20251020T035234Z
UID:59431-1762250400-1762257600@jikka-katazuke.jp
SUMMARY:【三鷹】人生100年時代の簡単片づけ術～服・小物・紙モノ書類までスッキリ！～
DESCRIPTION:【三鷹】人生100年時代の簡単片づけ術～服・小物・紙モノ書類までスッキリ！～ \n市民大学事業三鷹市『西むらさき学苑』\n \n講師　一社　実家片づけ整理協会　代表理事　渡部亜矢\n・日時…11月4日火曜日　午前10時から正午　\n・場所…三鷹市西多世代交流センター（三鷹市深大寺2－3－5）\n・受講生…60代から90代の市民50人
URL:https://jikka-katazuke.jp/event/%e3%80%90%e4%b8%89%e9%b7%b9%e3%80%91%e4%ba%ba%e7%94%9f100%e5%b9%b4%e6%99%82%e4%bb%a3%e3%81%ae%e7%b0%a1%e5%8d%98%e7%89%87%e3%81%a5%e3%81%91%e8%a1%93%ef%bd%9e%e6%9c%8d%e3%83%bb%e5%b0%8f%e7%89%a9/
ATTACH;FMTTYPE=image/jpeg:https://jikka-katazuke.jp/wp-content/uploads/2025/05/IMG_3354-scaled.jpg
END:VEVENT
BEGIN:VEVENT
DTSTART;TZID=Asia/Tokyo:20251117T093000
DTEND;TZID=Asia/Tokyo:20251117T163000
DTSTAMP:20260424T020006
CREATED:20251024T122541Z
LAST-MODIFIED:20251024T122541Z
UID:59435-1763371800-1763397000@jikka-katazuke.jp
SUMMARY:【認定】実家片づけアドバイザー®認定講座１・2級同時取得　1日コース
DESCRIPTION:【認定】実家片づけアドバイザー®認定講座１・2級同時取得　1日コース\n\n\n\n＊オンライン\n9：30-16：30　休憩・昼休憩を含む 試験別途 \n講師　代表理事・実家片づけアドバイザー認定講師　渡部亜矢ほか \n日程が合わない場合、対面ご希望の場合はお問い合わせください。 \n＊年会費はありません。 \n認定講座の詳細はこちら
URL:https://jikka-katazuke.jp/event/%e3%80%90%e8%aa%8d%e5%ae%9a%e3%80%91%e5%ae%9f%e5%ae%b6%e7%89%87%e3%81%a5%e3%81%91%e3%82%a2%e3%83%89%e3%83%90%e3%82%a4%e3%82%b6%e3%83%bc%e8%aa%8d%e5%ae%9a%e8%ac%9b%e5%ba%a7%ef%bc%91%e3%83%bb2-33/
ATTACH;FMTTYPE=image/jpeg:https://jikka-katazuke.jp/wp-content/uploads/2025/06/IMG_5349-scaled.jpg
END:VEVENT
BEGIN:VEVENT
DTSTART;TZID=Asia/Tokyo:20251127T193000
DTEND;TZID=Asia/Tokyo:20251127T210000
DTSTAMP:20260424T020006
CREATED:20251125T030544Z
LAST-MODIFIED:20251125T030544Z
UID:59632-1764271800-1764277200@jikka-katazuke.jp
SUMMARY:【第94回定例オフ会】「空き家にできない実家の片づけ」
DESCRIPTION:第94回 定例オフ会 \nテーマ「空き家にできない実家の片づけ」 \n11月27日木　19：30－最大21：00　オンライン \n講師　実家片づけ整理協会　渡部亜矢ほかメンバー \n対象　オンラインサロンメンバー
URL:https://jikka-katazuke.jp/event/%e3%80%90%e7%ac%ac94%e5%9b%9e%e5%ae%9a%e4%be%8b%e3%82%aa%e3%83%95%e4%bc%9a%e3%80%91%e3%80%8c%e7%a9%ba%e3%81%8d%e5%ae%b6%e3%81%ab%e3%81%a7%e3%81%8d%e3%81%aa%e3%81%84%e5%ae%9f%e5%ae%b6%e3%81%ae%e7%89%87/
ATTACH;FMTTYPE=image/jpeg:https://jikka-katazuke.jp/wp-content/uploads/2025/04/DSC2507-scaled.jpg
END:VEVENT
BEGIN:VEVENT
DTSTART;TZID=Asia/Tokyo:20251129T140000
DTEND;TZID=Asia/Tokyo:20251129T160000
DTSTAMP:20260424T020006
CREATED:20251121T020620Z
LAST-MODIFIED:20251122T104715Z
UID:59617-1764424800-1764432000@jikka-katazuke.jp
SUMMARY:【千葉】モノも心もスッキリ！忙しい女性のための片づけ講座 ～リバウンドも防ぐ時短整理のヒント～（ワーク）
DESCRIPTION:ワークショップ「モノも心もスッキリ！忙しい女性のための片づけ講座～リバウンドも防ぐ時短整理のヒント～」 \n日時　2025年11月29日（土）14時00分～16時00分\n講師　一社　実家片づけ整理協会　渡部亜矢 \n＊グループワークを含む講座です。 \n会場　千葉県千葉市内 \n対象・主催　千葉県内労働組合団体女性委員会
URL:https://jikka-katazuke.jp/event/%e3%80%90%e5%8d%83%e8%91%89%e3%80%91%e3%83%a2%e3%83%8e%e3%82%82%e5%bf%83%e3%82%82%e3%82%b9%e3%83%83%e3%82%ad%e3%83%aa%ef%bc%81%e5%bf%99%e3%81%97%e3%81%84%e5%a5%b3%e6%80%a7%e3%81%ae%e3%81%9f%e3%82%81/
ATTACH;FMTTYPE=image/jpeg:https://jikka-katazuke.jp/wp-content/uploads/2024/01/AdobeStock_489150824-scaled.jpeg
END:VEVENT
END:VCALENDAR