BEGIN:VCALENDAR
VERSION:2.0
PRODID:-//【公式】実家片づけ整理協会 - ECPv6.15.20//NONSGML v1.0//EN
CALSCALE:GREGORIAN
METHOD:PUBLISH
X-WR-CALNAME:【公式】実家片づけ整理協会
X-ORIGINAL-URL:https://jikka-katazuke.jp
X-WR-CALDESC:【公式】実家片づけ整理協会 のイベント
REFRESH-INTERVAL;VALUE=DURATION:PT1H
X-Robots-Tag:noindex
X-PUBLISHED-TTL:PT1H
BEGIN:VTIMEZONE
TZID:Asia/Tokyo
BEGIN:STANDARD
TZOFFSETFROM:+0900
TZOFFSETTO:+0900
TZNAME:JST
DTSTART:20240101T000000
END:STANDARD
END:VTIMEZONE
BEGIN:VEVENT
DTSTART;TZID=Asia/Tokyo:20251007T080000
DTEND;TZID=Asia/Tokyo:20251118T170000
DTSTAMP:20260424T032815
CREATED:20250818T142955Z
LAST-MODIFIED:20251111T004524Z
UID:59250-1759824000-1763485200@jikka-katazuke.jp
SUMMARY:【東京都消費生活センター・多摩消費生活センター】紙モノの生前整理 ～今日からできるやさしい整理術～
DESCRIPTION:紙モノの生前整理\n～今日からできるやさしい整理術～ \nくらしフェスタ東京2025\n東京都消費者月間協賛事業 \n講師　一般社団法人実家片づけ整理協会 代表理事　渡部 亜矢 \n主催・申込　東京都消費生活総合センター・多摩消費生活センター \n下記：東京都くらしネットWEB(東京都消費生活総合センター）サイトより引用 \n \n～シニア・ミドルのみなさまへ～\n楽しみながら学ぶ暮らしの連続講座\n自分と家族の人生100年時代の暮らしに備える、お役立ち情報満載の消費生活講座です。\n消費者トラブルにあわないために知っておきたい情報など、人気の講師陣がお話します。\n皆様のご参加をお待ちしております。 \n視聴期間\n令和7年10月7日（火曜日）正午から11月18日（火曜日）正午まで \n視聴方法\nYouTube（申し込み制） \n紙モノの生前整理\n～今日からできるやさしい整理術～ \n講師　一般社団法人実家片づけ整理協会 代表理事 渡部 亜矢 \n詳細\nhttps://www.shouhiseikatu.metro.tokyo.lg.jp/manabitai/koza/center/
URL:https://jikka-katazuke.jp/event/%e3%80%90%e6%9d%b1%e4%ba%ac%e9%83%bd%e6%b6%88%e8%b2%bb%e7%94%9f%e6%b4%bb%e3%82%bb%e3%83%b3%e3%82%bf%e3%83%bc%e3%83%bb%e5%a4%9a%e6%91%a9%e6%b6%88%e8%b2%bb%e7%94%9f%e6%b4%bb%e3%82%bb%e3%83%b3%e3%82%bf/
ATTACH;FMTTYPE=image/jpeg:https://jikka-katazuke.jp/wp-content/uploads/2025/08/e3914724827034f056e3b86619108b66.jpg
END:VEVENT
BEGIN:VEVENT
DTSTART;TZID=Asia/Tokyo:20251014T140000
DTEND;TZID=Asia/Tokyo:20251014T160000
DTSTAMP:20260424T032815
CREATED:20250908T155117Z
LAST-MODIFIED:20251009T024738Z
UID:59280-1760450400-1760457600@jikka-katazuke.jp
SUMMARY:【横浜戸塚】（増員〆切）「片づけから始めるわたしの終活～エンディングノートを書く前の紙モノ整理術！」
DESCRIPTION:講演会「片づけから始めるわたしの終活」～エンディングノートを書く前の紙モノ整理術！～\n \n講師：渡部 亜矢（一般社団法人 実家片づけ整理協会 代表理事、実家片づけアドバイザー®） \n10月14日（火）14時～16時　区役所8階大会議室AB \n区内在住・在勤・在学：先着50人（増員〆切） \n（手話通訳希望の有無を記入※手話通訳希望の場合は9月22日までに申込） \n申し込み：横浜市戸塚区役所高齢者支援担当（TEL866-8439）
URL:https://jikka-katazuke.jp/event/%e3%80%90%e6%a8%aa%e6%b5%9c%e6%88%b8%e5%a1%9a%e3%80%91%e3%80%8c%e7%89%87%e3%81%a5%e3%81%91%e3%81%8b%e3%82%89%e5%a7%8b%e3%82%81%e3%82%8b%e3%82%8f%e3%81%9f%e3%81%97%e3%81%ae%e7%b5%82%e6%b4%bb%ef%bd%9e/
ATTACH;FMTTYPE=image/jpeg:https://jikka-katazuke.jp/wp-content/uploads/2025/09/837fab113ef211d1cf8f0a086f3f0a34.jpg
END:VEVENT
BEGIN:VEVENT
DTSTART;TZID=Asia/Tokyo:20251018T133000
DTEND;TZID=Asia/Tokyo:20251018T154000
DTSTAMP:20260424T032815
CREATED:20250908T154053Z
LAST-MODIFIED:20250909T152248Z
UID:59273-1760794200-1760802000@jikka-katazuke.jp
SUMMARY:【広島県竹原市】終活講座「親とモメない実家の片づけ講座」＆専門家による相談会　
DESCRIPTION:ー終活講座ー親とモメない実家の片づけ講座＆専門家による相談会　 \n「親になかなか切り出せない」「親とけんかしてしまう」など実家の片づけに悩んでいませんか。 \n講座終了後には、不動産の売買や相続等の手続きが気になっている人に向け、専門家による相談会（1人10分まで）を開催されます。 \n講師：（一社）実家片づけ整理協会　代表理事　渡部亜矢 \n専門家:講座講師、司法書士事務所、不動産業者、建築士、法務局（相続登記義務化）、公証役場（遺言書等） \n広島県竹原市都市整備課　住宅建築係　☎２２-７７４９ \n10月18日（土）\n講座　　13時30分～14時30分　　市役所1階会議室1\n相談会　14時40分～15時40分　　市役所1階会議室4
URL:https://jikka-katazuke.jp/event/%e3%80%90%e5%ba%83%e5%b3%b6%e7%9c%8c%e7%ab%b9%e5%8e%9f%e5%b8%82%e3%80%91%e7%b5%82%e6%b4%bb%e8%ac%9b%e5%ba%a7%e3%80%8c%e8%a6%aa%e3%81%a8%e3%83%a2%e3%83%a1%e3%81%aa%e3%81%84%e5%ae%9f%e5%ae%b6%e3%81%ae/
ATTACH;FMTTYPE=image/jpeg:https://jikka-katazuke.jp/wp-content/uploads/2025/09/88b7b6b4302cdb66c82220a3b45d5d69.jpg
END:VEVENT
BEGIN:VEVENT
DTSTART;TZID=Asia/Tokyo:20251020T093000
DTEND;TZID=Asia/Tokyo:20251020T163000
DTSTAMP:20260424T032815
CREATED:20250908T155818Z
LAST-MODIFIED:20250908T155919Z
UID:59285-1760952600-1760977800@jikka-katazuke.jp
SUMMARY:【認定】実家片づけアドバイザー®認定講座１・2級同時取得　1日コース
DESCRIPTION:【認定】実家片づけアドバイザー®認定講座１・2級同時取得　1日コース\n\n\n\n＊オンライン\n9：30-16：30　休憩・昼休憩を含む 試験別途 \n講師　代表理事・実家片づけアドバイザー認定講師　渡部亜矢ほか \n日程が合わない場合、対面ご希望の場合はお問い合わせください。 \n＊年会費はありません。 \n認定講座の詳細はこちら
URL:https://jikka-katazuke.jp/event/%e3%80%90%e8%aa%8d%e5%ae%9a%e3%80%91%e5%ae%9f%e5%ae%b6%e7%89%87%e3%81%a5%e3%81%91%e3%82%a2%e3%83%89%e3%83%90%e3%82%a4%e3%82%b6%e3%83%bc%e8%aa%8d%e5%ae%9a%e8%ac%9b%e5%ba%a7%ef%bc%91%e3%83%bb2-32/
ATTACH;FMTTYPE=image/jpeg:https://jikka-katazuke.jp/wp-content/uploads/2024/02/seikatuno_situ.jpg
END:VEVENT
BEGIN:VEVENT
DTSTART;TZID=Asia/Tokyo:20251024T193000
DTEND;TZID=Asia/Tokyo:20251024T203000
DTSTAMP:20260424T032815
CREATED:20251007T133050Z
LAST-MODIFIED:20251007T133430Z
UID:59370-1761334200-1761337800@jikka-katazuke.jp
SUMMARY:【第93回 定例オフ会】 「捨てられない人へのアプローチ」
DESCRIPTION:第93回 定例オフ会 10月24日（金）19:30〜20:30（最長21:00まで） オンライン開催 \n\n\n 「捨てられない人へのアプローチ」\n使わないとわかっていても捨てられない人へ、どのように対応すればよいのでしょうか。\n実家片づけアドバイザーとしてできることを考えます。 \n対象　オンラインサロンメンバー
URL:https://jikka-katazuke.jp/event/%e3%80%90%e7%ac%ac93%e5%9b%9e-%e5%ae%9a%e4%be%8b%e3%82%aa%e3%83%95%e4%bc%9a%e3%80%91-%e3%80%8c%e6%8d%a8%e3%81%a6%e3%82%89%e3%82%8c%e3%81%aa%e3%81%84%e4%ba%ba%e3%81%b8%e3%81%ae%e3%82%a2%e3%83%97/
ATTACH;FMTTYPE=image/jpeg:https://jikka-katazuke.jp/wp-content/uploads/2025/10/ed7b67af1f926e756edcea340c0ef082.jpg
END:VEVENT
END:VCALENDAR