BEGIN:VCALENDAR
VERSION:2.0
PRODID:-//【公式】実家片づけ整理協会 - ECPv6.15.20//NONSGML v1.0//EN
CALSCALE:GREGORIAN
METHOD:PUBLISH
X-WR-CALNAME:【公式】実家片づけ整理協会
X-ORIGINAL-URL:https://jikka-katazuke.jp
X-WR-CALDESC:【公式】実家片づけ整理協会 のイベント
REFRESH-INTERVAL;VALUE=DURATION:PT1H
X-Robots-Tag:noindex
X-PUBLISHED-TTL:PT1H
BEGIN:VTIMEZONE
TZID:Asia/Tokyo
BEGIN:STANDARD
TZOFFSETFROM:+0900
TZOFFSETTO:+0900
TZNAME:JST
DTSTART:20240101T000000
END:STANDARD
END:VTIMEZONE
BEGIN:VEVENT
DTSTART;TZID=Asia/Tokyo:20250612T140000
DTEND;TZID=Asia/Tokyo:20250612T160000
DTSTAMP:20260424T101947
CREATED:20250501T030337Z
LAST-MODIFIED:20250501T030337Z
UID:59137-1749736800-1749744000@jikka-katazuke.jp
SUMMARY:【新宿】ボランティア活動に役立つ　お家の片づけ・整理講座～書類・本の整理とクローゼットの片づけ～
DESCRIPTION:ボランティア活動に役立つ　お家の片づけ・整理講座\n～書類・本の整理とクローゼットの片づけ～\n家が散らかっていてどこから手を付けていいかわからない、思い出の品を捨てられないなど、\nちょこっと・暮らしのサポート事業で近年依頼の多い「片づけ」について、\n「書類・本」と「クローゼット」の片づけを中心に利用者さん宅での片づけや整理のコツを学びます。 \n新宿でちょこっと・暮らしのサポート事業における活動者としての実践に役立てていただくための講座です。 \nボランティア活動に興味がある方も参加できます。 \n【日時】6月12日(木)　14時～16時 \n【会場】 新宿社協　地下会議室（高田馬場1-17-20） \n【対象】ちょこっと・暮らしのサポート事業活動者またはボランティア活動に興味のある方 \n【定員】参集30名 \n【講師】 \n一般社団法人　実家片づけ整理協会　代表理事　渡部　亜矢 \n【申込み方法】　※5月30日（金）申込〆切 \n電話、FAX、Eメールで\n地域活動支援課（新宿ボランティア・市民活動センター）\n高田馬場事務所\nshinjuku-vc@shinjuku-shakyo.jp
URL:https://jikka-katazuke.jp/event/%e3%80%90%e6%96%b0%e5%ae%bf%e3%80%91%e3%83%9c%e3%83%a9%e3%83%b3%e3%83%86%e3%82%a3%e3%82%a2%e6%b4%bb%e5%8b%95%e3%81%ab%e5%bd%b9%e7%ab%8b%e3%81%a4%e3%80%80%e3%81%8a%e5%ae%b6%e3%81%ae%e7%89%87%e3%81%a5/
ATTACH;FMTTYPE=image/jpeg:https://jikka-katazuke.jp/wp-content/uploads/2025/05/cfa989babda50bb07280becf3874912b.jpg
END:VEVENT
BEGIN:VEVENT
DTSTART;TZID=Asia/Tokyo:20250616T133000
DTEND;TZID=Asia/Tokyo:20250616T150000
DTSTAMP:20260424T101948
CREATED:20250404T014918Z
LAST-MODIFIED:20250405T023231Z
UID:59082-1750080600-1750086000@jikka-katazuke.jp
SUMMARY:【横浜】ラクで楽しい！自宅と実家の片づけ術～本･紙モノ･服･重要品までスッキリ!～
DESCRIPTION:ラクで楽しい！自宅と実家の片づけ術　-本･紙モノ･服･重要品までスッキリ!- \n2025年06月16日（月曜日）13時30分から15時00分\n磯子公会堂 講堂（磯子区総合庁舎内） \n【講師】　　　一般社団法人 実家片づけ整理協会\n代表理事 渡部 亜矢 \n【日時】　　　令和7(2025)年6月16日（月曜）13時30分から15時00分まで\n（開場・受付：13時から） \n【会場】　　　磯子公会堂 講堂（磯子区総合庁舎内） \n【所在地】　　横浜市磯子区磯子3-5-1 \n【交通】　　　JR根岸線「磯子」駅下車、徒歩約5分\n市営・京急バス「磯子区総合庁舎前」下車すぐ \n【参加費】　　無料 \n【定員】　　　400名（当日、先着順） \n主催　（公財）横浜市消費者協会　横浜市消費生活総合センター\nhttps://www.yokohama-consumer.or.jp/study/lecture/detail2317.html
URL:https://jikka-katazuke.jp/event/%e3%80%90%e6%a8%aa%e6%b5%9c%e7%a3%af%e5%ad%90%e3%80%91%e3%83%a9%e3%82%af%e3%81%a7%e6%a5%bd%e3%81%97%e3%81%84%ef%bc%81%e8%87%aa%e5%ae%85%e3%81%a8%e5%ae%9f%e5%ae%b6%e3%81%ae%e7%89%87%e3%81%a5%e3%81%91/
ATTACH;FMTTYPE=image/jpeg:https://jikka-katazuke.jp/wp-content/uploads/2025/04/b81db71975becb00f86438f5b402e2b4.jpg
END:VEVENT
BEGIN:VEVENT
DTSTART;TZID=Asia/Tokyo:20250617T093000
DTEND;TZID=Asia/Tokyo:20250617T163000
DTSTAMP:20260424T101948
CREATED:20250518T130736Z
LAST-MODIFIED:20250518T130736Z
UID:59154-1750152600-1750177800@jikka-katazuke.jp
SUMMARY:【認定】実家片づけアドバイザー®認定講座１・2級同時取得　1日コース
DESCRIPTION:【認定】実家片づけアドバイザー®認定講座１・2級同時取得　1日コース\n\n\n\n＊オンライン\n9：30-16：30　休憩・昼休憩を含む 試験別途 \n講師　代表理事・実家片づけアドバイザー認定講師　渡部亜矢ほか \n日程が合わない場合、対面ご希望の場合はお問い合わせください。 \n＊年会費はありません。 \n認定講座の詳細はこちら
URL:https://jikka-katazuke.jp/event/%e3%80%90%e8%aa%8d%e5%ae%9a%e3%80%91%e5%ae%9f%e5%ae%b6%e7%89%87%e3%81%a5%e3%81%91%e3%82%a2%e3%83%89%e3%83%90%e3%82%a4%e3%82%b6%e3%83%bc%e8%aa%8d%e5%ae%9a%e8%ac%9b%e5%ba%a7%ef%bc%91%e3%83%bb2-28/
ATTACH;FMTTYPE=image/png:https://jikka-katazuke.jp/wp-content/uploads/2024/05/70892d85c9928ca6642278a100e3b211.png
END:VEVENT
BEGIN:VEVENT
DTSTART;TZID=Asia/Tokyo:20250620T193000
DTEND;TZID=Asia/Tokyo:20250620T210000
DTSTAMP:20260424T101948
CREATED:20250619T125902Z
LAST-MODIFIED:20250619T125902Z
UID:59178-1750447800-1750453200@jikka-katazuke.jp
SUMMARY:【第89回定例オフ会】罪悪感を持たないモノの「賢い」手放し方／空き家対策最前線
DESCRIPTION:【第89回定例オフ会】 \n6/20金19：30－20：45　最大21：00 \n第1部　罪悪感を持たないモノの「賢い」手放し方\n第2部　空き家対策最前線 \n講師　渡部亜矢 \n対象　オンラインサロンメンバー
URL:https://jikka-katazuke.jp/event/%e3%80%90%e7%ac%ac89%e5%9b%9e%e5%ae%9a%e4%be%8b%e3%82%aa%e3%83%95%e4%bc%9a%e3%80%91%e7%bd%aa%e6%82%aa%e6%84%9f%e3%82%92%e6%8c%81%e3%81%9f%e3%81%aa%e3%81%84%e3%83%a2%e3%83%8e%e3%81%ae%e3%80%8c%e8%b3%a2/
ATTACH;FMTTYPE=image/jpeg:https://jikka-katazuke.jp/wp-content/uploads/2025/05/IMG_3354-scaled.jpg
END:VEVENT
BEGIN:VEVENT
DTSTART;TZID=Asia/Tokyo:20250627T100000
DTEND;TZID=Asia/Tokyo:20250627T120000
DTSTAMP:20260424T101948
CREATED:20250525T121607Z
LAST-MODIFIED:20250525T121607Z
UID:59156-1751018400-1751025600@jikka-katazuke.jp
SUMMARY:【小平】2回連続「元気なうちに始める終活　物とお金の整理のきほん」抽選
DESCRIPTION:シニア講座「元気なうちに始める終活　物とお金の整理のきほん」 \nこれからの人生が楽しくなる、部屋の片づけやお金に関する書類整理を学ぶ、実践的なワークショップです。 \n\n開催日\n2025年6月27日（金曜）\n2025年7月2日（水曜）\n2回連続講座\n\n\n6月27日（金曜）午前10時から正午まで、7月2日（水曜）午後2時から4時まで　全2回 \n会場 \n上水南公民館　ホール \n対象　小平市内在住・在勤・在学のおおむね60歳以上の方\n（注）原則として2回とも出席できる方。 \n定員　24人 \n講師　渡部　亜矢（一般社団法人実家片づけ整理協会代表理事） \n電話・メールでのお申込み\n6月19日（木曜）までに上水南公民館へ（電話受付は、日曜・月曜日を除く午前9時から午後5時まで）
URL:https://jikka-katazuke.jp/event/%e3%80%90%e5%b0%8f%e5%b9%b3%e3%80%912%e5%9b%9e%e9%80%a3%e7%b6%9a%e3%80%8c%e5%85%83%e6%b0%97%e3%81%aa%e3%81%86%e3%81%a1%e3%81%ab%e5%a7%8b%e3%82%81%e3%82%8b%e7%b5%82%e6%b4%bb%e3%80%80%e7%89%a9%e3%81%a8/
ATTACH;FMTTYPE=image/jpeg:https://jikka-katazuke.jp/wp-content/uploads/2025/05/e69f8865a4aa38e463b16dfda455372d.jpg
END:VEVENT
END:VCALENDAR