BEGIN:VCALENDAR
VERSION:2.0
PRODID:-//【公式】実家片づけ整理協会 - ECPv6.15.20//NONSGML v1.0//EN
CALSCALE:GREGORIAN
METHOD:PUBLISH
X-ORIGINAL-URL:https://jikka-katazuke.jp
X-WR-CALDESC:【公式】実家片づけ整理協会 のイベント
REFRESH-INTERVAL;VALUE=DURATION:PT1H
X-Robots-Tag:noindex
X-PUBLISHED-TTL:PT1H
BEGIN:VTIMEZONE
TZID:Asia/Tokyo
BEGIN:STANDARD
TZOFFSETFROM:+0900
TZOFFSETTO:+0900
TZNAME:JST
DTSTART:20240101T000000
END:STANDARD
END:VTIMEZONE
BEGIN:VEVENT
DTSTART;TZID=Asia/Tokyo:20250211T133000
DTEND;TZID=Asia/Tokyo:20250211T153000
DTSTAMP:20260424T172558
CREATED:20241218T025756Z
LAST-MODIFIED:20250208T001534Z
UID:58913-1739280600-1739287800@jikka-katazuke.jp
SUMMARY:【浦安】増席〆切「自宅と実家の快適片づけ講座～知って得する！モノとお金のカンタン終活のコツ～」
DESCRIPTION:住まいの講習会「自宅と実家の快適片づけ講座”知って得する！モノとお金のカンタン終活のコツ”」 \n家の散らかりにお悩みではありませんか？人生100年時代に合わせて、今日から始められる片づけのコツをご紹介します。モノとお金の整理で、安心な生活を手に入れましょう。 \n（下記は浦安市HPより） \n令和7年2月11日（火曜日） \n開催時間\n午後1時30分 から 午後3時30分 まで（午後1時15分開場） \n場所\n市民プラザWave101大ホール \n対象\n市内在住の方 \n定員　先着順　70人　→満席、90名に増席　〆切 \n講師\n渡部　亜矢　氏（一般社団法人実家片づけ整理協会代表理事、実家片づけアドバイザー） \n費用\n不要 \n申し込み締め切り日\n令和7年2月6日（木曜日） \n申し込み・主催　浦安市住宅課 \n電話またはEメールで、住宅課へ以下の内容をお伝えください。\nEメール：件名「2月11日住まいの講習会申込」\n氏名（ふりがな）・住所・電話番号・参加人数・事前に聞きたいこと（ある場合）\n電話：047-712-6284\nEメール： jyutaku@city.urayasu.lg.jp \n 
URL:https://jikka-katazuke.jp/event/%e3%80%90%e6%b5%a6%e5%ae%89%e3%80%91%e3%80%8c%e8%87%aa%e5%ae%85%e3%81%a8%e5%ae%9f%e5%ae%b6%e3%81%ae%e5%bf%ab%e9%81%a9%e7%89%87%e3%81%a5%e3%81%91%e8%ac%9b%e5%ba%a7%ef%bd%9e%e7%9f%a5%e3%81%a3%e3%81%a6/
ATTACH;FMTTYPE=image/jpeg:https://jikka-katazuke.jp/wp-content/uploads/2024/12/514fe74f70a4160de7181c323efa07f5.jpg
END:VEVENT
BEGIN:VEVENT
DTSTART;TZID=Asia/Tokyo:20250217T093000
DTEND;TZID=Asia/Tokyo:20250217T163000
DTSTAMP:20260424T172558
CREATED:20250216T143138Z
LAST-MODIFIED:20250216T143138Z
UID:59023-1739784600-1739809800@jikka-katazuke.jp
SUMMARY:【認定】実家片づけアドバイザー®認定講座１・2級同時取得　1日コース
DESCRIPTION:【認定】実家片づけアドバイザー®認定講座１・2級同時取得　1日コース\n\n\n\n＊オンライン\n9：30-16：30　休憩・昼休憩を含む 試験別途 \n講師　代表理事・実家片づけアドバイザー認定講師　渡部亜矢ほか \n日程が合わない場合、対面ご希望の場合はお問い合わせください。 \n＊年会費はありません。 \n認定講座の詳細はこちら
URL:https://jikka-katazuke.jp/event/%e3%80%90%e8%aa%8d%e5%ae%9a%e3%80%91%e5%ae%9f%e5%ae%b6%e7%89%87%e3%81%a5%e3%81%91%e3%82%a2%e3%83%89%e3%83%90%e3%82%a4%e3%82%b6%e3%83%bc%e8%aa%8d%e5%ae%9a%e8%ac%9b%e5%ba%a7%ef%bc%91%e3%83%bb2-21/
ATTACH;FMTTYPE=image/jpeg:https://jikka-katazuke.jp/wp-content/uploads/2024/03/katadukekata.jpg
END:VEVENT
BEGIN:VEVENT
DTSTART;TZID=Asia/Tokyo:20250219T100000
DTEND;TZID=Asia/Tokyo:20250219T120000
DTSTAMP:20260424T172558
CREATED:20250119T003239Z
LAST-MODIFIED:20250119T003239Z
UID:58967-1739959200-1739966400@jikka-katazuke.jp
SUMMARY:【横浜緑区】自分らしく生きるために片付けから始める終活
DESCRIPTION:自分らしく生きるために片付けから始める終活\n令和６年度エンディングノート普及啓発講演会 \n（横浜市緑区のHPより）\n最期まで自分らしく生きるために片付けから終活について考えてみませんか。\n講師：渡部　亜矢\n一般社団法人実家片づけ整理協会　代表理事　/　実家片付けアドバイザー\n◎参加者全員に緑区エンディングノートを贈呈します。 \n開催日\n2025年2月19日 \n日時詳細\n10：00～12：00（開場9：30） \n開催場所\n緑区役所４階　４AB会議室 \n参加方法\n電話・FAX・申し込みフォームより事前申し込み（先着80名） \n申込詳細\n申し込み期間：令和７年１月14日(火曜日)から２月４日(火曜日)締め切り \n費用\n無料 \n対象者\n緑区在住の方 \n主催：緑区役所　高齢・障害支援課　緑区福祉保健センター\n電話：045-930-2317 \n 
URL:https://jikka-katazuke.jp/event/%e3%80%90%e6%a8%aa%e6%b5%9c%e7%b7%91%e5%8c%ba%e3%80%91%e8%87%aa%e5%88%86%e3%82%89%e3%81%97%e3%81%8f%e7%94%9f%e3%81%8d%e3%82%8b%e3%81%9f%e3%82%81%e3%81%ab%e7%89%87%e4%bb%98%e3%81%91%e3%81%8b%e3%82%89/
ATTACH;FMTTYPE=image/jpeg:https://jikka-katazuke.jp/wp-content/uploads/2025/01/ce409d56c1612216f0ec97ac94eed6ff.jpg
END:VEVENT
BEGIN:VEVENT
DTSTART;TZID=Asia/Tokyo:20250221T140000
DTEND;TZID=Asia/Tokyo:20250221T160000
DTSTAMP:20260424T172558
CREATED:20250109T014947Z
LAST-MODIFIED:20250220T051213Z
UID:58937-1740146400-1740153600@jikka-katazuke.jp
SUMMARY:【横須賀】自宅と実家の片づけ相談会（対面・無料・先着順）
DESCRIPTION:昨年度に空き家対策モデル事業で実施した自宅と実家の片づけ相談会（対面）を開催いたします。 \n今年度は2回目の開催、先着5名、無料です。 \nご参加の方に、片づけの冊子（自宅と実家の片づけスタートBOOK）をお渡しします。 \n横須賀市都市部まちなみ景観課「空き家所有者・管理者向け相談会」との同時開催です。\n横須賀市に自宅または実家がある方はお気軽にご参加ください。 \n（以下、横須賀市のHPより） \n・・・・・・・・・・・・・・・・・・・・・ \n2025年2月21日（金曜日）14時00分～16時00分\n予約不要　先着5組 \n場所　横須賀市役所正庁（本館5階）\n対象　自宅か実家が横須賀にある方\n1組 約20分 \n当日の状況により、お待ちいただく場合や、参加をお断りする場合があります。\nご希望の方は、14時00分から15時20分ごろまでには来場ください。\n★同時開催「空き家所有者・管理者向け相談会(事前予約制)」と同じ会場です。 \n「広報よこすか２月号」に記事掲載 \n \nまなびかんニュース２月号」に記事掲載\n（編集・発行：横須賀市／(公財)横須賀市生涯学習財団 ) \n \n 
URL:https://jikka-katazuke.jp/event/%e3%80%90%e6%a8%aa%e9%a0%88%e8%b3%80%e3%80%91%e8%87%aa%e5%ae%85%e3%81%a8%e5%ae%9f%e5%ae%b6%e3%81%ae%e7%89%87%e3%81%a5%e3%81%91%e7%9b%b8%e8%ab%87%e4%bc%9a%ef%bc%88%e5%af%be%e9%9d%a2%e3%83%bb%e7%84%a1-2/
ATTACH;FMTTYPE=image/jpeg:https://jikka-katazuke.jp/wp-content/uploads/2025/01/cc36d6b53314c42c2761699f14e48105.jpg
END:VEVENT
BEGIN:VEVENT
DTSTART;TZID=Asia/Tokyo:20250222T133000
DTEND;TZID=Asia/Tokyo:20250222T150000
DTSTAMP:20260424T172558
CREATED:20241218T040911Z
LAST-MODIFIED:20250214T150935Z
UID:58918-1740231000-1740236400@jikka-katazuke.jp
SUMMARY:増席【三重県いなべ】「人生100年時代の片づけ整理術～物・お金・心もスッキリ！～」
DESCRIPTION:「人生100年時代の片づけ整理術～物・お金・心もスッキリ！～」\n令和7年2月22日（土曜日）\n講師：渡部亜矢（（一社）実家片づけ整理協会代表理事） \n会場　三重県いなべ市員弁コミュニティプラザ \n13時30分から15時00分 \n定員：先着100人　→　増員\n※約170名様にお申し込みいただいています。\n残席僅少　お申し込みはお早めに \n料金 500円（当日徴収、中学生以下無料） \n申込方法 いなべ市芸術文化協会窓口、電話、FAX、郵送、ホームページ、Eメールで（一社）いなべ市芸術文化協会へ申し込み　0594-82-1551 \n対象者：小学4年生以上（小学生は保護者の同伴が必要）
URL:https://jikka-katazuke.jp/event/%e3%80%90%e4%b8%89%e9%87%8d%e7%9c%8c%e3%81%84%e3%81%aa%e3%81%b9%e3%80%91%e3%80%8c%e4%ba%ba%e7%94%9f100%e5%b9%b4%e6%99%82%e4%bb%a3%e3%81%ae%e7%89%87%e3%81%a5%e3%81%91%e6%95%b4%e7%90%86%e8%a1%93/
ATTACH;FMTTYPE=image/jpeg:https://jikka-katazuke.jp/wp-content/uploads/2024/12/inabe.jpg
END:VEVENT
END:VCALENDAR