BEGIN:VCALENDAR
VERSION:2.0
PRODID:-//【公式】実家片づけ整理協会 - ECPv6.15.20//NONSGML v1.0//EN
CALSCALE:GREGORIAN
METHOD:PUBLISH
X-ORIGINAL-URL:https://jikka-katazuke.jp
X-WR-CALDESC:【公式】実家片づけ整理協会 のイベント
REFRESH-INTERVAL;VALUE=DURATION:PT1H
X-Robots-Tag:noindex
X-PUBLISHED-TTL:PT1H
BEGIN:VTIMEZONE
TZID:Asia/Tokyo
BEGIN:STANDARD
TZOFFSETFROM:+0900
TZOFFSETTO:+0900
TZNAME:JST
DTSTART:20230101T000000
END:STANDARD
END:VTIMEZONE
BEGIN:VEVENT
DTSTART;TZID=Asia/Tokyo:20240901T093000
DTEND;TZID=Asia/Tokyo:20240901T163000
DTSTAMP:20260425T040825
CREATED:20240820T010722Z
LAST-MODIFIED:20240820T010722Z
UID:58492-1725183000-1725208200@jikka-katazuke.jp
SUMMARY:【認定】実家片づけアドバイザー®認定講座１・2級同時取得　1日コース
DESCRIPTION:【認定】実家片づけアドバイザー®認定講座１・2級同時取得　1日コース\n\n\n\n＊オンライン\n9：30-16：30　休憩・昼休憩を含む 試験別途 \n講師　代表理事・実家片づけアドバイザー認定講師　渡部亜矢ほか \n日程が合わない場合、対面ご希望の場合はお問い合わせください。 \n＊年会費はありません。 \n認定講座の詳細はこちら
URL:https://jikka-katazuke.jp/event/%e3%80%90%e8%aa%8d%e5%ae%9a%e3%80%91%e5%ae%9f%e5%ae%b6%e7%89%87%e3%81%a5%e3%81%91%e3%82%a2%e3%83%89%e3%83%90%e3%82%a4%e3%82%b6%e3%83%bc%e8%aa%8d%e5%ae%9a%e8%ac%9b%e5%ba%a7%ef%bc%91%e3%83%bb2-12/
ATTACH;FMTTYPE=image/jpeg:https://jikka-katazuke.jp/wp-content/uploads/2022/07/AdobeStock_472574677-scaled.jpeg
END:VEVENT
BEGIN:VEVENT
DTSTART;TZID=Asia/Tokyo:20240920T133000
DTEND;TZID=Asia/Tokyo:20240920T153000
DTSTAMP:20260425T040825
CREATED:20240827T160343Z
LAST-MODIFIED:20240905T001348Z
UID:58514-1726839000-1726846200@jikka-katazuke.jp
SUMMARY:【葛飾区】増員〆切　人生100年時代の片づけ術 ～物とお金を整理するコツ～
DESCRIPTION:長寿化・少子高齢化が進む中、生前整理と遺品整理で困らない、実践しやすい片づけ術を学びます。 \n\n令和6年度 消費者講座『人生100年時代の片づけ術 ～物とお金を整理するコツ～』\n\n開催日\n令和6年9月20日（金曜日）\n時間\n午後1時30分から3時30分　開場午後1時00分\n会場\nウィメンズパル\n対象\n区内在住・在勤・在学の方\n2歳以上就学前のお子さん　保育あり\n\n主催　東京都葛飾区消費者センター\n\n　　事前申込　必須\n　（申込締切　40名→150名に増員〆切）
URL:https://jikka-katazuke.jp/event/%e3%80%90%e8%91%9b%e9%a3%be%e5%8c%ba%e3%80%91%e4%ba%ba%e7%94%9f100%e5%b9%b4%e6%99%82%e4%bb%a3%e3%81%ae%e7%89%87%e3%81%a5%e3%81%91%e8%a1%93-%ef%bd%9e%e7%89%a9%e3%81%a8%e3%81%8a%e9%87%91%e3%82%92/
ATTACH;FMTTYPE=application/pdf:https://jikka-katazuke.jp/wp-content/uploads/2024/08/flier-100iyear-r6.pdf
END:VEVENT
BEGIN:VEVENT
DTSTART;TZID=Asia/Tokyo:20240924T093000
DTEND;TZID=Asia/Tokyo:20240924T163000
DTSTAMP:20260425T040825
CREATED:20240827T155334Z
LAST-MODIFIED:20240827T155334Z
UID:58512-1727170200-1727195400@jikka-katazuke.jp
SUMMARY:【認定】実家片づけアドバイザー®認定講座１・2級同時取得　1日コース
DESCRIPTION:【認定】実家片づけアドバイザー®認定講座１・2級同時取得　1日コース\n\n\n\n＊オンライン\n9：30-16：30　休憩・昼休憩を含む 試験別途 \n講師　代表理事・実家片づけアドバイザー認定講師　渡部亜矢ほか \n日程が合わない場合、対面ご希望の場合はお問い合わせください。 \n＊年会費はありません。 \n認定講座の詳細はこちら
URL:https://jikka-katazuke.jp/event/%e3%80%90%e8%aa%8d%e5%ae%9a%e3%80%91%e5%ae%9f%e5%ae%b6%e7%89%87%e3%81%a5%e3%81%91%e3%82%a2%e3%83%89%e3%83%90%e3%82%a4%e3%82%b6%e3%83%bc%e8%aa%8d%e5%ae%9a%e8%ac%9b%e5%ba%a7%ef%bc%91%e3%83%bb2-13/
ATTACH;FMTTYPE=image/jpeg:https://jikka-katazuke.jp/wp-content/uploads/2024/03/kataduitaheya.jpg
END:VEVENT
BEGIN:VEVENT
DTSTART;TZID=Asia/Tokyo:20240924T193000
DTEND;TZID=Asia/Tokyo:20240924T203000
DTSTAMP:20260425T040825
CREATED:20240902T134930Z
LAST-MODIFIED:20240902T134938Z
UID:58519-1727206200-1727209800@jikka-katazuke.jp
SUMMARY:【第82回定例オフ会】片づく！傾聴ワーク
DESCRIPTION:【第82回定例オフ会】片づく！傾聴ワーク\n日時：9/24(火)19:30-20:30　最大21:00\n講師：Yumiko さん\nテーマ：「片づく！傾聴ワーク」\n内容：聞き上手になって、サクサク片づけるコツを実践します！\n難しい傾聴のコツを学びます。\n対象:オンラインサロンメンバー
URL:https://jikka-katazuke.jp/event/%e3%80%90%e7%ac%ac82%e5%9b%9e%e5%ae%9a%e4%be%8b%e3%82%aa%e3%83%95%e4%bc%9a%e3%80%91%e7%89%87%e3%81%a5%e3%81%8f%ef%bc%81%e5%82%be%e8%81%b4%e3%83%af%e3%83%bc%e3%82%af/
ATTACH;FMTTYPE=image/jpeg:https://jikka-katazuke.jp/wp-content/uploads/2024/02/onlinekouzajikkakataduke.jpg
END:VEVENT
END:VCALENDAR