BEGIN:VCALENDAR
VERSION:2.0
PRODID:-//【公式】実家片づけ整理協会 - ECPv6.15.20//NONSGML v1.0//EN
CALSCALE:GREGORIAN
METHOD:PUBLISH
X-ORIGINAL-URL:https://jikka-katazuke.jp
X-WR-CALDESC:【公式】実家片づけ整理協会 のイベント
REFRESH-INTERVAL;VALUE=DURATION:PT1H
X-Robots-Tag:noindex
X-PUBLISHED-TTL:PT1H
BEGIN:VTIMEZONE
TZID:Asia/Tokyo
BEGIN:STANDARD
TZOFFSETFROM:+0900
TZOFFSETTO:+0900
TZNAME:JST
DTSTART:20230101T000000
END:STANDARD
END:VTIMEZONE
BEGIN:VEVENT
DTSTART;TZID=Asia/Tokyo:20240705T193000
DTEND;TZID=Asia/Tokyo:20240705T203000
DTSTAMP:20260425T085852
CREATED:20240625T235808Z
LAST-MODIFIED:20240625T235808Z
UID:58337-1720207800-1720211400@jikka-katazuke.jp
SUMMARY:【第80回オフ会】やる気を引き出す片づけ方～片づけ裏話　第二弾～
DESCRIPTION:【第80回オフ会】やる気を引き出す片づけ方　～片づけ裏話　第二弾～ \n対象　オンラインサロンメンバー \n7月5日金　19：30～20：30　オンライン
URL:https://jikka-katazuke.jp/event/%e3%80%90%e7%ac%ac80%e5%9b%9e%e3%82%aa%e3%83%95%e4%bc%9a%e3%80%91%e3%82%84%e3%82%8b%e6%b0%97%e3%82%92%e5%bc%95%e3%81%8d%e5%87%ba%e3%81%99%e7%89%87%e3%81%a5%e3%81%91%e6%96%b9%ef%bd%9e%e7%89%87%e3%81%a5/
ATTACH;FMTTYPE=image/jpeg:https://jikka-katazuke.jp/wp-content/uploads/2024/03/katadukekata.jpg
END:VEVENT
BEGIN:VEVENT
DTSTART;TZID=Asia/Tokyo:20240707T093000
DTEND;TZID=Asia/Tokyo:20240707T163000
DTSTAMP:20260425T085852
CREATED:20240602T110200Z
LAST-MODIFIED:20240602T110200Z
UID:58311-1720344600-1720369800@jikka-katazuke.jp
SUMMARY:【認定】実家片づけアドバイザー®認定講座１・2級同時取得　1日コース
DESCRIPTION:【認定】実家片づけアドバイザー®認定講座１・2級同時取得　1日コース\n\n\n\n＊オンライン\n9：30-16：30　休憩・昼休憩を含む 試験別途 \n日程が合わない場合、対面ご希望の場合はお問い合わせください。 \n＊年会費はありません。 \n講師　代表理事・実家片づけアドバイザー認定講師　渡部亜矢ほか \n認定講座の詳細はこちら
URL:https://jikka-katazuke.jp/event/%e3%80%90%e8%aa%8d%e5%ae%9a%e3%80%91%e5%ae%9f%e5%ae%b6%e7%89%87%e3%81%a5%e3%81%91%e3%82%a2%e3%83%89%e3%83%90%e3%82%a4%e3%82%b6%e3%83%bc%e8%aa%8d%e5%ae%9a%e8%ac%9b%e5%ba%a7%ef%bc%91%e3%83%bb2-9/
ATTACH;FMTTYPE=image/jpeg:https://jikka-katazuke.jp/wp-content/uploads/2024/01/AdobeStock_489150824-scaled.jpeg
END:VEVENT
BEGIN:VEVENT
DTSTART;TZID=Asia/Tokyo:20240710T180000
DTEND;TZID=Asia/Tokyo:20240710T190000
DTSTAMP:20260425T085852
CREATED:20240623T151146Z
LAST-MODIFIED:20240623T151146Z
UID:58325-1720634400-1720638000@jikka-katazuke.jp
SUMMARY:【京都】知って得する！家庭の片づけ術　ハイブリッド
DESCRIPTION:知って得する！家庭の片づけ術 \n主催・対象　京都市内　大手保険会社様 \n講師　実家片づけ整理協会　渡部亜矢 \n講演・オンライン　ハイブリッド形式 \n 
URL:https://jikka-katazuke.jp/event/%e3%80%90%e4%ba%ac%e9%83%bd%e3%80%91%e7%9f%a5%e3%81%a3%e3%81%a6%e5%be%97%e3%81%99%e3%82%8b%ef%bc%81%e5%ae%b6%e5%ba%ad%e3%81%ae%e7%89%87%e3%81%a5%e3%81%91%e8%a1%93%e3%80%80%e3%83%8f%e3%82%a4%e3%83%96/
ATTACH;FMTTYPE=image/jpeg:https://jikka-katazuke.jp/wp-content/uploads/2024/03/katadukekata.jpg
END:VEVENT
BEGIN:VEVENT
DTSTART;TZID=Asia/Tokyo:20240721T093000
DTEND;TZID=Asia/Tokyo:20240721T123000
DTSTAMP:20260425T085852
CREATED:20240719T160449Z
LAST-MODIFIED:20240719T160530Z
UID:58376-1721554200-1721565000@jikka-katazuke.jp
SUMMARY:【認定】実家片づけアドバイザー2級認定講座
DESCRIPTION:【認定】実家片づけアドバイザー2級認定講座\n\n\n\n＊オンライン\n9：30-12：30　休憩を含む 試験別途 \n日程が合わない場合はお問い合わせください。 \n＊年会費はありません。 \n講師　代表理事・実家片づけアドバイザー認定講師　渡部亜矢ほか \n認定講座の詳細はこちら
URL:https://jikka-katazuke.jp/event/%e3%80%90%e8%aa%8d%e5%ae%9a%e3%80%91%e5%ae%9f%e5%ae%b6%e7%89%87%e3%81%a5%e3%81%91%e3%82%a2%e3%83%89%e3%83%90%e3%82%a4%e3%82%b6%e3%83%bc2%e7%b4%9a%e8%aa%8d%e5%ae%9a%e8%ac%9b%e5%ba%a7-4/
ATTACH;FMTTYPE=image/jpeg:https://jikka-katazuke.jp/wp-content/uploads/2024/02/onlinekouzajikkakataduke.jpg
END:VEVENT
BEGIN:VEVENT
DTSTART;TZID=Asia/Tokyo:20240722T150000
DTEND;TZID=Asia/Tokyo:20240722T163000
DTSTAMP:20260425T085852
CREATED:20240709T011259Z
LAST-MODIFIED:20240723T150235Z
UID:58347-1721660400-1721665800@jikka-katazuke.jp
SUMMARY:【横浜】もめない・空き家にしないための片付け
DESCRIPTION:「もめない・空き家にしないための片付け～相続対策・お金の片付けセミナー～」 \n会場　神奈川県横浜 \n主催・対象(公社)神奈川県宅地建物取引業協会　横浜東部支部青年部会・女性部会主催\n会場　崎陽軒本店 \n講師　実家片づけ整理協会　渡部亜矢 \n7月22日月　15時～
URL:https://jikka-katazuke.jp/event/%e3%80%90%e6%a8%aa%e6%b5%9c%e3%80%91%e3%80%8c%e3%82%82%e3%82%81%e3%81%aa%e3%81%84%e3%83%bb%e7%a9%ba%e3%81%8d%e5%ae%b6%e3%81%ab%e3%81%97%e3%81%aa%e3%81%84%e3%81%9f%e3%82%81%e3%81%ae%e7%89%87%e4%bb%98/
ATTACH;FMTTYPE=image/jpeg:https://jikka-katazuke.jp/wp-content/uploads/2024/03/shoruiseiri.jpg
END:VEVENT
BEGIN:VEVENT
DTSTART;TZID=Asia/Tokyo:20240728T111500
DTEND;TZID=Asia/Tokyo:20240728T121500
DTSTAMP:20260425T085852
CREATED:20240604T141723Z
LAST-MODIFIED:20240604T142002Z
UID:58313-1722165300-1722168900@jikka-katazuke.jp
SUMMARY:【岡山美作】実家の片づけポイント講座
DESCRIPTION:実家の片づけポイント講座\n～家族円満！かんたん整理術～ \n男女共同参画セミナー \n一般社団法人　実家片づけ整理協会　代表理事　渡部亜矢 \n7月28日（日）11：15～12：15\n会場　美作文化センター \n10：00～11：00\n桂三扇さんの講演\n小さな体で大きな仕事　落語家「子育て奮闘記」もご参加ください。 \n美作市湯郷826 番地4\n主催　美作市役所市民課人権・協働係 \n 
URL:https://jikka-katazuke.jp/event/%e3%80%90%e5%b2%a1%e5%b1%b1%e7%be%8e%e4%bd%9c%e3%80%91%e5%ae%9f%e5%ae%b6%e3%81%ae%e7%89%87%e3%81%a5%e3%81%91%e3%83%9d%e3%82%a4%e3%83%b3%e3%83%88%e8%ac%9b%e5%ba%a7/
ATTACH;FMTTYPE=image/jpeg:https://jikka-katazuke.jp/wp-content/uploads/2024/06/55af5733214feb546269045d5593623a.jpg
END:VEVENT
END:VCALENDAR