BEGIN:VCALENDAR
VERSION:2.0
PRODID:-//【公式】実家片づけ整理協会 - ECPv6.15.20//NONSGML v1.0//EN
CALSCALE:GREGORIAN
METHOD:PUBLISH
X-WR-CALNAME:【公式】実家片づけ整理協会
X-ORIGINAL-URL:https://jikka-katazuke.jp
X-WR-CALDESC:【公式】実家片づけ整理協会 のイベント
REFRESH-INTERVAL;VALUE=DURATION:PT1H
X-Robots-Tag:noindex
X-PUBLISHED-TTL:PT1H
BEGIN:VTIMEZONE
TZID:Asia/Tokyo
BEGIN:STANDARD
TZOFFSETFROM:+0900
TZOFFSETTO:+0900
TZNAME:JST
DTSTART:20230101T000000
END:STANDARD
END:VTIMEZONE
BEGIN:VEVENT
DTSTART;TZID=Asia/Tokyo:20240601T133000
DTEND;TZID=Asia/Tokyo:20240601T150000
DTSTAMP:20260425T104205
CREATED:20240501T025913Z
LAST-MODIFIED:20240511T221655Z
UID:58247-1717248600-1717254000@jikka-katazuke.jp
SUMMARY:満席【江戸川区】紙モノの片づけ講座～これで安心！家中スッキリ！～　
DESCRIPTION:紙モノの片づけ講座～これで安心！家中スッキリ！～ \n2024年　6月1日（土）　13：30～15：00 \n講師　一般社団法人　実家片づけ整理協会\n代表理事　渡部亜矢 \n江戸川区立東葛西図書館主催　5月4日12時より受付　満席締切 \n会場　東葛西コミュニティ会館　2階 \n  \n 
URL:https://jikka-katazuke.jp/event/%e3%80%90%e6%b1%9f%e6%88%b8%e5%b7%9d%e3%80%91%e7%b4%99%e3%83%a2%e3%83%8e%e3%81%ae%e7%89%87%e3%81%a5%e3%81%91%e8%ac%9b%e5%ba%a7%ef%bd%9e%e3%81%93%e3%82%8c%e3%81%a7%e5%ae%89%e5%bf%83%ef%bc%81%e5%ae%b6/
ATTACH;FMTTYPE=image/jpeg:https://jikka-katazuke.jp/wp-content/uploads/2024/05/fc44b5653cb910b49a72d70431ee26e2.jpg
END:VEVENT
BEGIN:VEVENT
DTSTART;TZID=Asia/Tokyo:20240602T093000
DTEND;TZID=Asia/Tokyo:20240602T183000
DTSTAMP:20260425T104205
CREATED:20240501T022306Z
LAST-MODIFIED:20240501T022306Z
UID:58245-1717320600-1717353000@jikka-katazuke.jp
SUMMARY:【認定】実家片づけアドバイザー®認定講座１・2級同時取得　1日コース
DESCRIPTION:【認定】実家片づけアドバイザー®認定講座１・2級同時取得　1日コース\n\n\n\n＊オンライン\n9：30-16：30　休憩・昼休憩を含む 試験別途 \n日程が合わない場合、対面ご希望の場合はお問い合わせください。 \n＊年会費はありません。 \n講師　代表理事・実家片づけアドバイザー認定講師　渡部亜矢ほか \n認定講座の詳細はこちら
URL:https://jikka-katazuke.jp/event/%e3%80%90%e8%aa%8d%e5%ae%9a%e3%80%91%e5%ae%9f%e5%ae%b6%e7%89%87%e3%81%a5%e3%81%91%e3%82%a2%e3%83%89%e3%83%90%e3%82%a4%e3%82%b6%e3%83%bc%e8%aa%8d%e5%ae%9a%e8%ac%9b%e5%ba%a7%ef%bc%91%e3%83%bb2-7/
ATTACH;FMTTYPE=image/jpeg:https://jikka-katazuke.jp/wp-content/uploads/2024/02/onlinekouzajikkakataduke.jpg
END:VEVENT
BEGIN:VEVENT
DTSTART;TZID=Asia/Tokyo:20240606T140000
DTEND;TZID=Asia/Tokyo:20240606T160000
DTSTAMP:20260425T104205
CREATED:20240527T000209Z
LAST-MODIFIED:20240527T000301Z
UID:58280-1717682400-1717689600@jikka-katazuke.jp
SUMMARY:【高田馬場】防災にもつながる   お家の片づけ・整理講座
DESCRIPTION:＼防災にもつながる／  お家の片づけ・整理講座 \n講師　一般社団法人　実家片づけ整理協会　代表理事　渡部亜矢 \n6月6日（木）14：00～16：00 \n会場・主催：新宿区社会福祉協議会　（高田馬場）
URL:https://jikka-katazuke.jp/event/%e3%80%90%e6%96%b0%e5%ae%bf%e3%80%91%e9%98%b2%e7%81%bd%e3%81%ab%e3%82%82%e3%81%a4%e3%81%aa%e3%81%8c%e3%82%8b-%e3%81%8a%e5%ae%b6%e3%81%ae%e7%89%87%e3%81%a5%e3%81%91%e3%83%bb%e6%95%b4%e7%90%86/
ATTACH;FMTTYPE=image/png:https://jikka-katazuke.jp/wp-content/uploads/2024/05/807029824d09bb780ec9c356f51923c8.png
END:VEVENT
BEGIN:VEVENT
DTSTART;TZID=Asia/Tokyo:20240608T130000
DTEND;TZID=Asia/Tokyo:20240608T143000
DTSTAMP:20260425T104205
CREATED:20240502T012647Z
LAST-MODIFIED:20240502T012647Z
UID:58251-1717851600-1717857000@jikka-katazuke.jp
SUMMARY:【昭島】安全・安心・快適！防災につながるおうちカンタン整理術
DESCRIPTION:安全・安心・快適！防災につながるおうちカンタン整理術\n防災を意識しながら家の中を整理するコツを学び、安全で快適な暮らしを目指しましょう。 \n6月8日（土曜日）午後1時～2時30分 \n講師　一般社団法人　実家片づけ整理協会　渡部亜矢\n東京都昭島市役所1階市民ホール\n定員　100人（多数抽選）\n保育\n1歳以上の未就学児6人（多数抽選） \n＊第53回昭島市消費生活展～今、本当に知りたいこと～\n毎日の生活に密着した食・環境・消費に関することをテーマにした第53回昭島市消費生活展での講演です。 \n申込期間・方法 \n5月2日（金曜日）～5月17日（金曜日）\nLoGoフォーム（外部サイトにリンクします）
URL:https://jikka-katazuke.jp/event/%e3%80%90%e6%98%ad%e5%b3%b6%e3%80%91%e5%ae%89%e5%85%a8%e3%83%bb%e5%ae%89%e5%bf%83%e3%83%bb%e5%bf%ab%e9%81%a9%ef%bc%81%e9%98%b2%e7%81%bd%e3%81%ab%e3%81%a4%e3%81%aa%e3%81%8c%e3%82%8b%e3%81%8a%e3%81%86/
ATTACH;FMTTYPE=image/png:https://jikka-katazuke.jp/wp-content/uploads/2024/05/100cec341b742dc6a7e01888a3a7cac3.png
END:VEVENT
BEGIN:VEVENT
DTSTART;TZID=Asia/Tokyo:20240614T193000
DTEND;TZID=Asia/Tokyo:20240614T210000
DTSTAMP:20260425T104205
CREATED:20240613T130757Z
LAST-MODIFIED:20240613T130757Z
UID:58322-1718393400-1718398800@jikka-katazuke.jp
SUMMARY:第79回オフ会　片づけ裏話　
DESCRIPTION:【第79回オフ会】6月14日金19：30～20:30オンライン\n片づけ裏話 \n講師　渡部亜矢　ほか \n対象　オンラインサロンメンバー
URL:https://jikka-katazuke.jp/event/%e7%ac%ac79%e5%9b%9e%e3%82%aa%e3%83%95%e4%bc%9a%e3%80%80%e7%89%87%e3%81%a5%e3%81%91%e8%a3%8f%e8%a9%b1%e3%80%80/
ATTACH;FMTTYPE=image/jpeg:https://jikka-katazuke.jp/wp-content/uploads/2024/03/kataduitaheya.jpg
END:VEVENT
BEGIN:VEVENT
DTSTART;TZID=Asia/Tokyo:20240617T093000
DTEND;TZID=Asia/Tokyo:20240617T163000
DTSTAMP:20260425T104205
CREATED:20240602T105937Z
LAST-MODIFIED:20240602T105937Z
UID:58309-1718616600-1718641800@jikka-katazuke.jp
SUMMARY:【認定】実家片づけアドバイザー®認定講座１・2級同時取得　1日コース
DESCRIPTION:【認定】実家片づけアドバイザー®認定講座１・2級同時取得　1日コース\n\n\n\n＊オンライン\n9：30-16：30　休憩・昼休憩を含む 試験別途 \n日程が合わない場合、対面ご希望の場合はお問い合わせください。 \n＊年会費はありません。 \n講師　代表理事・実家片づけアドバイザー認定講師　渡部亜矢ほか \n認定講座の詳細はこちら
URL:https://jikka-katazuke.jp/event/%e3%80%90%e8%aa%8d%e5%ae%9a%e3%80%91%e5%ae%9f%e5%ae%b6%e7%89%87%e3%81%a5%e3%81%91%e3%82%a2%e3%83%89%e3%83%90%e3%82%a4%e3%82%b6%e3%83%bc%e8%aa%8d%e5%ae%9a%e8%ac%9b%e5%ba%a7%ef%bc%91%e3%83%bb2-8/
ATTACH;FMTTYPE=image/jpeg:https://jikka-katazuke.jp/wp-content/uploads/2024/03/katadukekata.jpg
END:VEVENT
END:VCALENDAR